BEGIN:VCALENDAR
VERSION:2.0
PRODID:-//LLTSC - ECPv6.15.15//NONSGML v1.0//EN
CALSCALE:GREGORIAN
METHOD:PUBLISH
X-ORIGINAL-URL:https://www.lltsc.co.uk
X-WR-CALDESC:Events for LLTSC
REFRESH-INTERVAL;VALUE=DURATION:PT1H
X-Robots-Tag:noindex
X-PUBLISHED-TTL:PT1H
BEGIN:VTIMEZONE
TZID:UTC
BEGIN:STANDARD
TZOFFSETFROM:+0000
TZOFFSETTO:+0000
TZNAME:UTC
DTSTART:20260101T000000
END:STANDARD
END:VTIMEZONE
BEGIN:VEVENT
DTSTART;TZID=UTC:20270107T123000
DTEND;TZID=UTC:20270107T163000
DTSTAMP:20260421T172130
CREATED:20230331T110310Z
LAST-MODIFIED:20230331T110430Z
UID:10002446-1799325000-1799339400@www.lltsc.co.uk
SUMMARY:Physiotherapist
DESCRIPTION:Sharon Swift will be offering Physiotherapy sessions for members at a discounted rate. Contact Sharon on 07900 262765
URL:https://www.lltsc.co.uk/event/physiotherapist/2027-01-07/
LOCATION:Meeting Room
END:VEVENT
BEGIN:VEVENT
DTSTART;TZID=UTC:20270112T190000
DTEND;TZID=UTC:20270112T230000
DTSTAMP:20260421T172130
CREATED:20210805T103514Z
LAST-MODIFIED:20210805T103514Z
UID:10001773-1799780400-1799794800@www.lltsc.co.uk
SUMMARY:Leamington Chess Club
DESCRIPTION:
URL:https://www.lltsc.co.uk/event/leamington-chess-club/2027-01-12/
LOCATION:Meeting Room
ATTACH;FMTTYPE=image/jpeg:https://www.lltsc.co.uk/wp-content/uploads/2021/08/Chess.jpg
END:VEVENT
BEGIN:VEVENT
DTSTART;TZID=UTC:20270114T123000
DTEND;TZID=UTC:20270114T163000
DTSTAMP:20260421T172130
CREATED:20230331T110310Z
LAST-MODIFIED:20230331T110430Z
UID:10002447-1799929800-1799944200@www.lltsc.co.uk
SUMMARY:Physiotherapist
DESCRIPTION:Sharon Swift will be offering Physiotherapy sessions for members at a discounted rate. Contact Sharon on 07900 262765
URL:https://www.lltsc.co.uk/event/physiotherapist/2027-01-14/
LOCATION:Meeting Room
END:VEVENT
BEGIN:VEVENT
DTSTART;TZID=UTC:20270119T190000
DTEND;TZID=UTC:20270119T230000
DTSTAMP:20260421T172130
CREATED:20210805T103514Z
LAST-MODIFIED:20210805T103514Z
UID:10001774-1800385200-1800399600@www.lltsc.co.uk
SUMMARY:Leamington Chess Club
DESCRIPTION:
URL:https://www.lltsc.co.uk/event/leamington-chess-club/2027-01-19/
LOCATION:Meeting Room
ATTACH;FMTTYPE=image/jpeg:https://www.lltsc.co.uk/wp-content/uploads/2021/08/Chess.jpg
END:VEVENT
BEGIN:VEVENT
DTSTART;TZID=UTC:20270121T123000
DTEND;TZID=UTC:20270121T163000
DTSTAMP:20260421T172130
CREATED:20230331T110310Z
LAST-MODIFIED:20230331T110430Z
UID:10002448-1800534600-1800549000@www.lltsc.co.uk
SUMMARY:Physiotherapist
DESCRIPTION:Sharon Swift will be offering Physiotherapy sessions for members at a discounted rate. Contact Sharon on 07900 262765
URL:https://www.lltsc.co.uk/event/physiotherapist/2027-01-21/
LOCATION:Meeting Room
END:VEVENT
BEGIN:VEVENT
DTSTART;TZID=UTC:20270126T190000
DTEND;TZID=UTC:20270126T230000
DTSTAMP:20260421T172130
CREATED:20210805T103514Z
LAST-MODIFIED:20210805T103514Z
UID:10001775-1800990000-1801004400@www.lltsc.co.uk
SUMMARY:Leamington Chess Club
DESCRIPTION:
URL:https://www.lltsc.co.uk/event/leamington-chess-club/2027-01-26/
LOCATION:Meeting Room
ATTACH;FMTTYPE=image/jpeg:https://www.lltsc.co.uk/wp-content/uploads/2021/08/Chess.jpg
END:VEVENT
BEGIN:VEVENT
DTSTART;TZID=UTC:20270128T123000
DTEND;TZID=UTC:20270128T163000
DTSTAMP:20260421T172130
CREATED:20230331T110310Z
LAST-MODIFIED:20230331T110430Z
UID:10002449-1801139400-1801153800@www.lltsc.co.uk
SUMMARY:Physiotherapist
DESCRIPTION:Sharon Swift will be offering Physiotherapy sessions for members at a discounted rate. Contact Sharon on 07900 262765
URL:https://www.lltsc.co.uk/event/physiotherapist/2027-01-28/
LOCATION:Meeting Room
END:VEVENT
BEGIN:VEVENT
DTSTART;TZID=UTC:20270130T133000
DTEND;TZID=UTC:20270130T170000
DTSTAMP:20260421T172130
CREATED:20251120T095524Z
LAST-MODIFIED:20251120T095524Z
UID:10004064-1801315800-1801328400@www.lltsc.co.uk
SUMMARY:Member Meeting
DESCRIPTION:David Frost – Italian Group
URL:https://www.lltsc.co.uk/event/member-meeting-26-2/2027-01-30/
LOCATION:Meeting Room
END:VEVENT
BEGIN:VEVENT
DTSTART;TZID=UTC:20270202T190000
DTEND;TZID=UTC:20270202T230000
DTSTAMP:20260421T172130
CREATED:20210805T103514Z
LAST-MODIFIED:20210805T103514Z
UID:10001776-1801594800-1801609200@www.lltsc.co.uk
SUMMARY:Leamington Chess Club
DESCRIPTION:
URL:https://www.lltsc.co.uk/event/leamington-chess-club/2027-02-02/
LOCATION:Meeting Room
ATTACH;FMTTYPE=image/jpeg:https://www.lltsc.co.uk/wp-content/uploads/2021/08/Chess.jpg
END:VEVENT
BEGIN:VEVENT
DTSTART;TZID=UTC:20270204T123000
DTEND;TZID=UTC:20270204T163000
DTSTAMP:20260421T172130
CREATED:20230331T110310Z
LAST-MODIFIED:20230331T110430Z
UID:10002450-1801744200-1801758600@www.lltsc.co.uk
SUMMARY:Physiotherapist
DESCRIPTION:Sharon Swift will be offering Physiotherapy sessions for members at a discounted rate. Contact Sharon on 07900 262765
URL:https://www.lltsc.co.uk/event/physiotherapist/2027-02-04/
LOCATION:Meeting Room
END:VEVENT
BEGIN:VEVENT
DTSTART;TZID=UTC:20270209T190000
DTEND;TZID=UTC:20270209T230000
DTSTAMP:20260421T172130
CREATED:20210805T103514Z
LAST-MODIFIED:20210805T103514Z
UID:10001777-1802199600-1802214000@www.lltsc.co.uk
SUMMARY:Leamington Chess Club
DESCRIPTION:
URL:https://www.lltsc.co.uk/event/leamington-chess-club/2027-02-09/
LOCATION:Meeting Room
ATTACH;FMTTYPE=image/jpeg:https://www.lltsc.co.uk/wp-content/uploads/2021/08/Chess.jpg
END:VEVENT
BEGIN:VEVENT
DTSTART;TZID=UTC:20270211T123000
DTEND;TZID=UTC:20270211T163000
DTSTAMP:20260421T172130
CREATED:20230331T110310Z
LAST-MODIFIED:20230331T110430Z
UID:10002451-1802349000-1802363400@www.lltsc.co.uk
SUMMARY:Physiotherapist
DESCRIPTION:Sharon Swift will be offering Physiotherapy sessions for members at a discounted rate. Contact Sharon on 07900 262765
URL:https://www.lltsc.co.uk/event/physiotherapist/2027-02-11/
LOCATION:Meeting Room
END:VEVENT
BEGIN:VEVENT
DTSTART;TZID=UTC:20270216T190000
DTEND;TZID=UTC:20270216T230000
DTSTAMP:20260421T172130
CREATED:20210805T103514Z
LAST-MODIFIED:20210805T103514Z
UID:10001778-1802804400-1802818800@www.lltsc.co.uk
SUMMARY:Leamington Chess Club
DESCRIPTION:
URL:https://www.lltsc.co.uk/event/leamington-chess-club/2027-02-16/
LOCATION:Meeting Room
ATTACH;FMTTYPE=image/jpeg:https://www.lltsc.co.uk/wp-content/uploads/2021/08/Chess.jpg
END:VEVENT
BEGIN:VEVENT
DTSTART;TZID=UTC:20270218T123000
DTEND;TZID=UTC:20270218T163000
DTSTAMP:20260421T172130
CREATED:20230331T110310Z
LAST-MODIFIED:20230331T110430Z
UID:10002452-1802953800-1802968200@www.lltsc.co.uk
SUMMARY:Physiotherapist
DESCRIPTION:Sharon Swift will be offering Physiotherapy sessions for members at a discounted rate. Contact Sharon on 07900 262765
URL:https://www.lltsc.co.uk/event/physiotherapist/2027-02-18/
LOCATION:Meeting Room
END:VEVENT
BEGIN:VEVENT
DTSTART;TZID=UTC:20270223T190000
DTEND;TZID=UTC:20270223T230000
DTSTAMP:20260421T172130
CREATED:20210805T103514Z
LAST-MODIFIED:20210805T103514Z
UID:10001779-1803409200-1803423600@www.lltsc.co.uk
SUMMARY:Leamington Chess Club
DESCRIPTION:
URL:https://www.lltsc.co.uk/event/leamington-chess-club/2027-02-23/
LOCATION:Meeting Room
ATTACH;FMTTYPE=image/jpeg:https://www.lltsc.co.uk/wp-content/uploads/2021/08/Chess.jpg
END:VEVENT
BEGIN:VEVENT
DTSTART;TZID=UTC:20270225T123000
DTEND;TZID=UTC:20270225T163000
DTSTAMP:20260421T172130
CREATED:20230331T110310Z
LAST-MODIFIED:20230331T110430Z
UID:10002453-1803558600-1803573000@www.lltsc.co.uk
SUMMARY:Physiotherapist
DESCRIPTION:Sharon Swift will be offering Physiotherapy sessions for members at a discounted rate. Contact Sharon on 07900 262765
URL:https://www.lltsc.co.uk/event/physiotherapist/2027-02-25/
LOCATION:Meeting Room
END:VEVENT
BEGIN:VEVENT
DTSTART;TZID=UTC:20270227T133000
DTEND;TZID=UTC:20270227T170000
DTSTAMP:20260421T172130
CREATED:20251120T095524Z
LAST-MODIFIED:20251120T095524Z
UID:10004065-1803735000-1803747600@www.lltsc.co.uk
SUMMARY:Member Meeting
DESCRIPTION:David Frost – Italian Group
URL:https://www.lltsc.co.uk/event/member-meeting-26-2/2027-02-27/
LOCATION:Meeting Room
END:VEVENT
BEGIN:VEVENT
DTSTART;TZID=UTC:20270302T190000
DTEND;TZID=UTC:20270302T230000
DTSTAMP:20260421T172130
CREATED:20210805T103514Z
LAST-MODIFIED:20210805T103514Z
UID:10001780-1804014000-1804028400@www.lltsc.co.uk
SUMMARY:Leamington Chess Club
DESCRIPTION:
URL:https://www.lltsc.co.uk/event/leamington-chess-club/2027-03-02/
LOCATION:Meeting Room
ATTACH;FMTTYPE=image/jpeg:https://www.lltsc.co.uk/wp-content/uploads/2021/08/Chess.jpg
END:VEVENT
BEGIN:VEVENT
DTSTART;TZID=UTC:20270304T123000
DTEND;TZID=UTC:20270304T163000
DTSTAMP:20260421T172130
CREATED:20230331T110310Z
LAST-MODIFIED:20230331T110430Z
UID:10002454-1804163400-1804177800@www.lltsc.co.uk
SUMMARY:Physiotherapist
DESCRIPTION:Sharon Swift will be offering Physiotherapy sessions for members at a discounted rate. Contact Sharon on 07900 262765
URL:https://www.lltsc.co.uk/event/physiotherapist/2027-03-04/
LOCATION:Meeting Room
END:VEVENT
BEGIN:VEVENT
DTSTART;TZID=UTC:20270309T190000
DTEND;TZID=UTC:20270309T230000
DTSTAMP:20260421T172130
CREATED:20210805T103514Z
LAST-MODIFIED:20210805T103514Z
UID:10001781-1804618800-1804633200@www.lltsc.co.uk
SUMMARY:Leamington Chess Club
DESCRIPTION:
URL:https://www.lltsc.co.uk/event/leamington-chess-club/2027-03-09/
LOCATION:Meeting Room
ATTACH;FMTTYPE=image/jpeg:https://www.lltsc.co.uk/wp-content/uploads/2021/08/Chess.jpg
END:VEVENT
BEGIN:VEVENT
DTSTART;TZID=UTC:20270311T123000
DTEND;TZID=UTC:20270311T163000
DTSTAMP:20260421T172130
CREATED:20230331T110310Z
LAST-MODIFIED:20230331T110430Z
UID:10002455-1804768200-1804782600@www.lltsc.co.uk
SUMMARY:Physiotherapist
DESCRIPTION:Sharon Swift will be offering Physiotherapy sessions for members at a discounted rate. Contact Sharon on 07900 262765
URL:https://www.lltsc.co.uk/event/physiotherapist/2027-03-11/
LOCATION:Meeting Room
END:VEVENT
BEGIN:VEVENT
DTSTART;TZID=UTC:20270316T190000
DTEND;TZID=UTC:20270316T230000
DTSTAMP:20260421T172130
CREATED:20210805T103514Z
LAST-MODIFIED:20210805T103514Z
UID:10001782-1805223600-1805238000@www.lltsc.co.uk
SUMMARY:Leamington Chess Club
DESCRIPTION:
URL:https://www.lltsc.co.uk/event/leamington-chess-club/2027-03-16/
LOCATION:Meeting Room
ATTACH;FMTTYPE=image/jpeg:https://www.lltsc.co.uk/wp-content/uploads/2021/08/Chess.jpg
END:VEVENT
BEGIN:VEVENT
DTSTART;TZID=UTC:20270318T123000
DTEND;TZID=UTC:20270318T163000
DTSTAMP:20260421T172130
CREATED:20230331T110310Z
LAST-MODIFIED:20230331T110430Z
UID:10002456-1805373000-1805387400@www.lltsc.co.uk
SUMMARY:Physiotherapist
DESCRIPTION:Sharon Swift will be offering Physiotherapy sessions for members at a discounted rate. Contact Sharon on 07900 262765
URL:https://www.lltsc.co.uk/event/physiotherapist/2027-03-18/
LOCATION:Meeting Room
END:VEVENT
BEGIN:VEVENT
DTSTART;TZID=UTC:20270323T190000
DTEND;TZID=UTC:20270323T230000
DTSTAMP:20260421T172130
CREATED:20210805T103514Z
LAST-MODIFIED:20210805T103514Z
UID:10001783-1805828400-1805842800@www.lltsc.co.uk
SUMMARY:Leamington Chess Club
DESCRIPTION:
URL:https://www.lltsc.co.uk/event/leamington-chess-club/2027-03-23/
LOCATION:Meeting Room
ATTACH;FMTTYPE=image/jpeg:https://www.lltsc.co.uk/wp-content/uploads/2021/08/Chess.jpg
END:VEVENT
BEGIN:VEVENT
DTSTART;TZID=UTC:20270325T123000
DTEND;TZID=UTC:20270325T163000
DTSTAMP:20260421T172130
CREATED:20230331T110310Z
LAST-MODIFIED:20230331T110430Z
UID:10002457-1805977800-1805992200@www.lltsc.co.uk
SUMMARY:Physiotherapist
DESCRIPTION:Sharon Swift will be offering Physiotherapy sessions for members at a discounted rate. Contact Sharon on 07900 262765
URL:https://www.lltsc.co.uk/event/physiotherapist/2027-03-25/
LOCATION:Meeting Room
END:VEVENT
BEGIN:VEVENT
DTSTART;TZID=UTC:20270327T133000
DTEND;TZID=UTC:20270327T170000
DTSTAMP:20260421T172130
CREATED:20251120T095524Z
LAST-MODIFIED:20251120T095524Z
UID:10004066-1806154200-1806166800@www.lltsc.co.uk
SUMMARY:Member Meeting
DESCRIPTION:David Frost – Italian Group
URL:https://www.lltsc.co.uk/event/member-meeting-26-2/2027-03-27/
LOCATION:Meeting Room
END:VEVENT
BEGIN:VEVENT
DTSTART;TZID=UTC:20270330T190000
DTEND;TZID=UTC:20270330T230000
DTSTAMP:20260421T172130
CREATED:20210805T103514Z
LAST-MODIFIED:20210805T103514Z
UID:10001784-1806433200-1806447600@www.lltsc.co.uk
SUMMARY:Leamington Chess Club
DESCRIPTION:
URL:https://www.lltsc.co.uk/event/leamington-chess-club/2027-03-30/
LOCATION:Meeting Room
ATTACH;FMTTYPE=image/jpeg:https://www.lltsc.co.uk/wp-content/uploads/2021/08/Chess.jpg
END:VEVENT
BEGIN:VEVENT
DTSTART;TZID=UTC:20270401T123000
DTEND;TZID=UTC:20270401T163000
DTSTAMP:20260421T172130
CREATED:20230331T110310Z
LAST-MODIFIED:20230331T110430Z
UID:10002458-1806582600-1806597000@www.lltsc.co.uk
SUMMARY:Physiotherapist
DESCRIPTION:Sharon Swift will be offering Physiotherapy sessions for members at a discounted rate. Contact Sharon on 07900 262765
URL:https://www.lltsc.co.uk/event/physiotherapist/2027-04-01/
LOCATION:Meeting Room
END:VEVENT
BEGIN:VEVENT
DTSTART;TZID=UTC:20270406T190000
DTEND;TZID=UTC:20270406T230000
DTSTAMP:20260421T172130
CREATED:20210805T103514Z
LAST-MODIFIED:20210805T103514Z
UID:10001785-1807038000-1807052400@www.lltsc.co.uk
SUMMARY:Leamington Chess Club
DESCRIPTION:
URL:https://www.lltsc.co.uk/event/leamington-chess-club/2027-04-06/
LOCATION:Meeting Room
ATTACH;FMTTYPE=image/jpeg:https://www.lltsc.co.uk/wp-content/uploads/2021/08/Chess.jpg
END:VEVENT
BEGIN:VEVENT
DTSTART;TZID=UTC:20270408T123000
DTEND;TZID=UTC:20270408T163000
DTSTAMP:20260421T172130
CREATED:20230331T110310Z
LAST-MODIFIED:20230331T110430Z
UID:10002459-1807187400-1807201800@www.lltsc.co.uk
SUMMARY:Physiotherapist
DESCRIPTION:Sharon Swift will be offering Physiotherapy sessions for members at a discounted rate. Contact Sharon on 07900 262765
URL:https://www.lltsc.co.uk/event/physiotherapist/2027-04-08/
LOCATION:Meeting Room
END:VEVENT
END:VCALENDAR