BEGIN:VCALENDAR
VERSION:2.0
PRODID:-//LLTSC - ECPv6.15.15//NONSGML v1.0//EN
CALSCALE:GREGORIAN
METHOD:PUBLISH
X-ORIGINAL-URL:https://www.lltsc.co.uk
X-WR-CALDESC:Events for LLTSC
REFRESH-INTERVAL;VALUE=DURATION:PT1H
X-Robots-Tag:noindex
X-PUBLISHED-TTL:PT1H
BEGIN:VTIMEZONE
TZID:UTC
BEGIN:STANDARD
TZOFFSETFROM:+0000
TZOFFSETTO:+0000
TZNAME:UTC
DTSTART:20200101T000000
END:STANDARD
END:VTIMEZONE
BEGIN:VEVENT
DTSTART;TZID=UTC:20220104T190000
DTEND;TZID=UTC:20220104T230000
DTSTAMP:20260421T205638
CREATED:20210805T103514Z
LAST-MODIFIED:20210805T103514Z
UID:10001511-1641322800-1641337200@www.lltsc.co.uk
SUMMARY:Leamington Chess Club
DESCRIPTION:
URL:https://www.lltsc.co.uk/event/leamington-chess-club/2022-01-04/
LOCATION:Meeting Room
ATTACH;FMTTYPE=image/jpeg:https://www.lltsc.co.uk/wp-content/uploads/2021/08/Chess.jpg
END:VEVENT
BEGIN:VEVENT
DTSTART;TZID=UTC:20211228T190000
DTEND;TZID=UTC:20211228T230000
DTSTAMP:20260421T205638
CREATED:20210805T103514Z
LAST-MODIFIED:20210805T103514Z
UID:10001510-1640718000-1640732400@www.lltsc.co.uk
SUMMARY:Leamington Chess Club
DESCRIPTION:
URL:https://www.lltsc.co.uk/event/leamington-chess-club/2021-12-28/
LOCATION:Meeting Room
ATTACH;FMTTYPE=image/jpeg:https://www.lltsc.co.uk/wp-content/uploads/2021/08/Chess.jpg
END:VEVENT
BEGIN:VEVENT
DTSTART;TZID=UTC:20211221T190000
DTEND;TZID=UTC:20211221T230000
DTSTAMP:20260421T205638
CREATED:20210805T103514Z
LAST-MODIFIED:20210805T103514Z
UID:10001509-1640113200-1640127600@www.lltsc.co.uk
SUMMARY:Leamington Chess Club
DESCRIPTION:
URL:https://www.lltsc.co.uk/event/leamington-chess-club/2021-12-21/
LOCATION:Meeting Room
ATTACH;FMTTYPE=image/jpeg:https://www.lltsc.co.uk/wp-content/uploads/2021/08/Chess.jpg
END:VEVENT
BEGIN:VEVENT
DTSTART;TZID=UTC:20211214T190000
DTEND;TZID=UTC:20211214T230000
DTSTAMP:20260421T205638
CREATED:20210805T103514Z
LAST-MODIFIED:20210805T103514Z
UID:10001508-1639508400-1639522800@www.lltsc.co.uk
SUMMARY:Leamington Chess Club
DESCRIPTION:
URL:https://www.lltsc.co.uk/event/leamington-chess-club/2021-12-14/
LOCATION:Meeting Room
ATTACH;FMTTYPE=image/jpeg:https://www.lltsc.co.uk/wp-content/uploads/2021/08/Chess.jpg
END:VEVENT
BEGIN:VEVENT
DTSTART;TZID=UTC:20211207T190000
DTEND;TZID=UTC:20211207T230000
DTSTAMP:20260421T205638
CREATED:20210805T103514Z
LAST-MODIFIED:20210805T103514Z
UID:10001507-1638903600-1638918000@www.lltsc.co.uk
SUMMARY:Leamington Chess Club
DESCRIPTION:
URL:https://www.lltsc.co.uk/event/leamington-chess-club/2021-12-07/
LOCATION:Meeting Room
ATTACH;FMTTYPE=image/jpeg:https://www.lltsc.co.uk/wp-content/uploads/2021/08/Chess.jpg
END:VEVENT
BEGIN:VEVENT
DTSTART;TZID=UTC:20211201T193000
DTEND;TZID=UTC:20211201T230000
DTSTAMP:20260421T205638
CREATED:20211007T102339Z
LAST-MODIFIED:20211007T104647Z
UID:10001879-1638387000-1638399600@www.lltsc.co.uk
SUMMARY:Member Meeting
DESCRIPTION:Martin Lusby
URL:https://www.lltsc.co.uk/event/member-meeting-4/
LOCATION:Meeting Room
END:VEVENT
BEGIN:VEVENT
DTSTART;TZID=UTC:20211130T190000
DTEND;TZID=UTC:20211130T230000
DTSTAMP:20260421T205638
CREATED:20210805T103514Z
LAST-MODIFIED:20210805T103514Z
UID:10001506-1638298800-1638313200@www.lltsc.co.uk
SUMMARY:Leamington Chess Club
DESCRIPTION:
URL:https://www.lltsc.co.uk/event/leamington-chess-club/2021-11-30/
LOCATION:Meeting Room
ATTACH;FMTTYPE=image/jpeg:https://www.lltsc.co.uk/wp-content/uploads/2021/08/Chess.jpg
END:VEVENT
BEGIN:VEVENT
DTSTART;TZID=UTC:20211123T190000
DTEND;TZID=UTC:20211123T230000
DTSTAMP:20260421T205638
CREATED:20210805T103514Z
LAST-MODIFIED:20210805T103514Z
UID:10001505-1637694000-1637708400@www.lltsc.co.uk
SUMMARY:Leamington Chess Club
DESCRIPTION:
URL:https://www.lltsc.co.uk/event/leamington-chess-club/2021-11-23/
LOCATION:Meeting Room
ATTACH;FMTTYPE=image/jpeg:https://www.lltsc.co.uk/wp-content/uploads/2021/08/Chess.jpg
END:VEVENT
BEGIN:VEVENT
DTSTART;TZID=UTC:20211116T190000
DTEND;TZID=UTC:20211116T230000
DTSTAMP:20260421T205638
CREATED:20210805T103514Z
LAST-MODIFIED:20210805T103514Z
UID:10001504-1637089200-1637103600@www.lltsc.co.uk
SUMMARY:Leamington Chess Club
DESCRIPTION:
URL:https://www.lltsc.co.uk/event/leamington-chess-club/2021-11-16/
LOCATION:Meeting Room
ATTACH;FMTTYPE=image/jpeg:https://www.lltsc.co.uk/wp-content/uploads/2021/08/Chess.jpg
END:VEVENT
BEGIN:VEVENT
DTSTART;TZID=UTC:20211109T190000
DTEND;TZID=UTC:20211109T230000
DTSTAMP:20260421T205638
CREATED:20210805T103514Z
LAST-MODIFIED:20210805T103514Z
UID:10001503-1636484400-1636498800@www.lltsc.co.uk
SUMMARY:Leamington Chess Club
DESCRIPTION:
URL:https://www.lltsc.co.uk/event/leamington-chess-club/2021-11-09/
LOCATION:Meeting Room
ATTACH;FMTTYPE=image/jpeg:https://www.lltsc.co.uk/wp-content/uploads/2021/08/Chess.jpg
END:VEVENT
BEGIN:VEVENT
DTSTART;TZID=UTC:20211108T193000
DTEND;TZID=UTC:20211108T223000
DTSTAMP:20260421T205638
CREATED:20211027T135811Z
LAST-MODIFIED:20211027T135811Z
UID:10001893-1636399800-1636410600@www.lltsc.co.uk
SUMMARY:Management Committee Meeting
DESCRIPTION:
URL:https://www.lltsc.co.uk/event/management-committee-meeting-2/
LOCATION:Meeting Room
END:VEVENT
BEGIN:VEVENT
DTSTART;TZID=UTC:20211102T190000
DTEND;TZID=UTC:20211102T230000
DTSTAMP:20260421T205638
CREATED:20210805T103514Z
LAST-MODIFIED:20210805T103514Z
UID:10001502-1635879600-1635894000@www.lltsc.co.uk
SUMMARY:Leamington Chess Club
DESCRIPTION:
URL:https://www.lltsc.co.uk/event/leamington-chess-club/2021-11-02/
LOCATION:Meeting Room
ATTACH;FMTTYPE=image/jpeg:https://www.lltsc.co.uk/wp-content/uploads/2021/08/Chess.jpg
END:VEVENT
BEGIN:VEVENT
DTSTART;TZID=UTC:20211026T190000
DTEND;TZID=UTC:20211026T230000
DTSTAMP:20260421T205638
CREATED:20210805T103514Z
LAST-MODIFIED:20210805T103514Z
UID:10001501-1635274800-1635289200@www.lltsc.co.uk
SUMMARY:Leamington Chess Club
DESCRIPTION:
URL:https://www.lltsc.co.uk/event/leamington-chess-club/2021-10-26/
LOCATION:Meeting Room
ATTACH;FMTTYPE=image/jpeg:https://www.lltsc.co.uk/wp-content/uploads/2021/08/Chess.jpg
END:VEVENT
BEGIN:VEVENT
DTSTART;TZID=UTC:20211019T190000
DTEND;TZID=UTC:20211019T230000
DTSTAMP:20260421T205638
CREATED:20210805T103514Z
LAST-MODIFIED:20210805T103514Z
UID:10001500-1634670000-1634684400@www.lltsc.co.uk
SUMMARY:Leamington Chess Club
DESCRIPTION:
URL:https://www.lltsc.co.uk/event/leamington-chess-club/2021-10-19/
LOCATION:Meeting Room
ATTACH;FMTTYPE=image/jpeg:https://www.lltsc.co.uk/wp-content/uploads/2021/08/Chess.jpg
END:VEVENT
BEGIN:VEVENT
DTSTART;TZID=UTC:20211012T190000
DTEND;TZID=UTC:20211012T230000
DTSTAMP:20260421T205638
CREATED:20210805T103514Z
LAST-MODIFIED:20210805T103514Z
UID:10001499-1634065200-1634079600@www.lltsc.co.uk
SUMMARY:Leamington Chess Club
DESCRIPTION:
URL:https://www.lltsc.co.uk/event/leamington-chess-club/2021-10-12/
LOCATION:Meeting Room
ATTACH;FMTTYPE=image/jpeg:https://www.lltsc.co.uk/wp-content/uploads/2021/08/Chess.jpg
END:VEVENT
BEGIN:VEVENT
DTSTART;TZID=UTC:20211005T190000
DTEND;TZID=UTC:20211005T230000
DTSTAMP:20260421T205638
CREATED:20210805T103514Z
LAST-MODIFIED:20210805T103514Z
UID:10001498-1633460400-1633474800@www.lltsc.co.uk
SUMMARY:Leamington Chess Club
DESCRIPTION:
URL:https://www.lltsc.co.uk/event/leamington-chess-club/2021-10-05/
LOCATION:Meeting Room
ATTACH;FMTTYPE=image/jpeg:https://www.lltsc.co.uk/wp-content/uploads/2021/08/Chess.jpg
END:VEVENT
BEGIN:VEVENT
DTSTART;TZID=UTC:20210928T190000
DTEND;TZID=UTC:20210928T230000
DTSTAMP:20260421T205638
CREATED:20210805T103514Z
LAST-MODIFIED:20210805T103514Z
UID:10001497-1632855600-1632870000@www.lltsc.co.uk
SUMMARY:Leamington Chess Club
DESCRIPTION:
URL:https://www.lltsc.co.uk/event/leamington-chess-club/2021-09-28/
LOCATION:Meeting Room
ATTACH;FMTTYPE=image/jpeg:https://www.lltsc.co.uk/wp-content/uploads/2021/08/Chess.jpg
END:VEVENT
BEGIN:VEVENT
DTSTART;TZID=UTC:20210925T100000
DTEND;TZID=UTC:20210925T123000
DTSTAMP:20260421T205638
CREATED:20210720T133332Z
LAST-MODIFIED:20210720T133417Z
UID:10001479-1632564000-1632573000@www.lltsc.co.uk
SUMMARY:Member Meeting
DESCRIPTION:Nollaig Doughan
URL:https://www.lltsc.co.uk/event/member-meeting/
LOCATION:Meeting Room
END:VEVENT
BEGIN:VEVENT
DTSTART;TZID=UTC:20210921T190000
DTEND;TZID=UTC:20210921T230000
DTSTAMP:20260421T205638
CREATED:20210805T103514Z
LAST-MODIFIED:20210805T103514Z
UID:10001496-1632250800-1632265200@www.lltsc.co.uk
SUMMARY:Leamington Chess Club
DESCRIPTION:
URL:https://www.lltsc.co.uk/event/leamington-chess-club/2021-09-21/
LOCATION:Meeting Room
ATTACH;FMTTYPE=image/jpeg:https://www.lltsc.co.uk/wp-content/uploads/2021/08/Chess.jpg
END:VEVENT
BEGIN:VEVENT
DTSTART;TZID=UTC:20210914T190000
DTEND;TZID=UTC:20210914T230000
DTSTAMP:20260421T205638
CREATED:20210805T103514Z
LAST-MODIFIED:20210805T103514Z
UID:10001495-1631646000-1631660400@www.lltsc.co.uk
SUMMARY:Leamington Chess Club
DESCRIPTION:
URL:https://www.lltsc.co.uk/event/leamington-chess-club/2021-09-14/
LOCATION:Meeting Room
ATTACH;FMTTYPE=image/jpeg:https://www.lltsc.co.uk/wp-content/uploads/2021/08/Chess.jpg
END:VEVENT
BEGIN:VEVENT
DTSTART;TZID=UTC:20210909T200000
DTEND;TZID=UTC:20210909T220000
DTSTAMP:20260421T205638
CREATED:20210909T084516Z
LAST-MODIFIED:20210909T084516Z
UID:10001412-1631217600-1631224800@www.lltsc.co.uk
SUMMARY:Spa Striders Meeting
DESCRIPTION:
URL:https://www.lltsc.co.uk/event/spa-striders-meeting-2/
LOCATION:Meeting Room
END:VEVENT
BEGIN:VEVENT
DTSTART;TZID=UTC:20210907T190000
DTEND;TZID=UTC:20210907T230000
DTSTAMP:20260421T205638
CREATED:20210805T103514Z
LAST-MODIFIED:20210805T103514Z
UID:10001494-1631041200-1631055600@www.lltsc.co.uk
SUMMARY:Leamington Chess Club
DESCRIPTION:
URL:https://www.lltsc.co.uk/event/leamington-chess-club/2021-09-07/
LOCATION:Meeting Room
ATTACH;FMTTYPE=image/jpeg:https://www.lltsc.co.uk/wp-content/uploads/2021/08/Chess.jpg
END:VEVENT
BEGIN:VEVENT
DTSTART;TZID=UTC:20210831T190000
DTEND;TZID=UTC:20210831T230000
DTSTAMP:20260421T205639
CREATED:20210805T103514Z
LAST-MODIFIED:20210805T103514Z
UID:10001493-1630436400-1630450800@www.lltsc.co.uk
SUMMARY:Leamington Chess Club
DESCRIPTION:
URL:https://www.lltsc.co.uk/event/leamington-chess-club/2021-08-31/
LOCATION:Meeting Room
ATTACH;FMTTYPE=image/jpeg:https://www.lltsc.co.uk/wp-content/uploads/2021/08/Chess.jpg
END:VEVENT
BEGIN:VEVENT
DTSTART;TZID=UTC:20210824T190000
DTEND;TZID=UTC:20210824T230000
DTSTAMP:20260421T205639
CREATED:20210805T103514Z
LAST-MODIFIED:20210805T103514Z
UID:10001492-1629831600-1629846000@www.lltsc.co.uk
SUMMARY:Leamington Chess Club
DESCRIPTION:
URL:https://www.lltsc.co.uk/event/leamington-chess-club/2021-08-24/
LOCATION:Meeting Room
ATTACH;FMTTYPE=image/jpeg:https://www.lltsc.co.uk/wp-content/uploads/2021/08/Chess.jpg
END:VEVENT
BEGIN:VEVENT
DTSTART;TZID=UTC:20210817T190000
DTEND;TZID=UTC:20210817T230000
DTSTAMP:20260421T205639
CREATED:20210805T103514Z
LAST-MODIFIED:20210805T103514Z
UID:10001491-1629226800-1629241200@www.lltsc.co.uk
SUMMARY:Leamington Chess Club
DESCRIPTION:
URL:https://www.lltsc.co.uk/event/leamington-chess-club/2021-08-17/
LOCATION:Meeting Room
ATTACH;FMTTYPE=image/jpeg:https://www.lltsc.co.uk/wp-content/uploads/2021/08/Chess.jpg
END:VEVENT
BEGIN:VEVENT
DTSTART;TZID=UTC:20210810T190000
DTEND;TZID=UTC:20210810T230000
DTSTAMP:20260421T205639
CREATED:20210805T103514Z
LAST-MODIFIED:20210805T103514Z
UID:10001490-1628622000-1628636400@www.lltsc.co.uk
SUMMARY:Leamington Chess Club
DESCRIPTION:
URL:https://www.lltsc.co.uk/event/leamington-chess-club/2021-08-10/
LOCATION:Meeting Room
ATTACH;FMTTYPE=image/jpeg:https://www.lltsc.co.uk/wp-content/uploads/2021/08/Chess.jpg
END:VEVENT
BEGIN:VEVENT
DTSTART;TZID=UTC:20210525T193000
DTEND;TZID=UTC:20210525T220000
DTSTAMP:20260421T205639
CREATED:20210504T113050Z
LAST-MODIFIED:20210504T125935Z
UID:10001166-1621971000-1621980000@www.lltsc.co.uk
SUMMARY:Management Committee Meeting
DESCRIPTION:Upstairs Meeting Room
URL:https://www.lltsc.co.uk/event/management-committee-meeting/
LOCATION:Meeting Room
END:VEVENT
END:VCALENDAR