BEGIN:VCALENDAR
VERSION:2.0
PRODID:-//LLTSC - ECPv6.15.15//NONSGML v1.0//EN
CALSCALE:GREGORIAN
METHOD:PUBLISH
X-WR-CALNAME:LLTSC
X-ORIGINAL-URL:https://www.lltsc.co.uk
X-WR-CALDESC:Events for LLTSC
REFRESH-INTERVAL;VALUE=DURATION:PT1H
X-Robots-Tag:noindex
X-PUBLISHED-TTL:PT1H
BEGIN:VTIMEZONE
TZID:UTC
BEGIN:STANDARD
TZOFFSETFROM:+0000
TZOFFSETTO:+0000
TZNAME:UTC
DTSTART:20210101T000000
END:STANDARD
END:VTIMEZONE
BEGIN:VEVENT
DTSTART;TZID=UTC:20220927T190000
DTEND;TZID=UTC:20220927T230000
DTSTAMP:20260421T085809
CREATED:20210805T103514Z
LAST-MODIFIED:20210805T103514Z
UID:10001549-1664305200-1664319600@www.lltsc.co.uk
SUMMARY:Leamington Chess Club
DESCRIPTION:
URL:https://www.lltsc.co.uk/event/leamington-chess-club/2022-09-27/
LOCATION:Meeting Room
ATTACH;FMTTYPE=image/jpeg:https://www.lltsc.co.uk/wp-content/uploads/2021/08/Chess.jpg
END:VEVENT
BEGIN:VEVENT
DTSTART;TZID=UTC:20220920T190000
DTEND;TZID=UTC:20220920T230000
DTSTAMP:20260421T085809
CREATED:20210805T103514Z
LAST-MODIFIED:20210805T103514Z
UID:10001548-1663700400-1663714800@www.lltsc.co.uk
SUMMARY:Leamington Chess Club
DESCRIPTION:
URL:https://www.lltsc.co.uk/event/leamington-chess-club/2022-09-20/
LOCATION:Meeting Room
ATTACH;FMTTYPE=image/jpeg:https://www.lltsc.co.uk/wp-content/uploads/2021/08/Chess.jpg
END:VEVENT
BEGIN:VEVENT
DTSTART;TZID=UTC:20220915T100000
DTEND;TZID=UTC:20220915T123000
DTSTAMP:20260421T085809
CREATED:20211112T123032Z
LAST-MODIFIED:20211112T123032Z
UID:10001905-1663236000-1663245000@www.lltsc.co.uk
SUMMARY:Friendship Project Meeting
DESCRIPTION:
URL:https://www.lltsc.co.uk/event/friendship-project-meeting-5/
LOCATION:Meeting Room
END:VEVENT
BEGIN:VEVENT
DTSTART;TZID=UTC:20220913T190000
DTEND;TZID=UTC:20220913T230000
DTSTAMP:20260421T085809
CREATED:20210805T103514Z
LAST-MODIFIED:20210805T103514Z
UID:10001547-1663095600-1663110000@www.lltsc.co.uk
SUMMARY:Leamington Chess Club
DESCRIPTION:
URL:https://www.lltsc.co.uk/event/leamington-chess-club/2022-09-13/
LOCATION:Meeting Room
ATTACH;FMTTYPE=image/jpeg:https://www.lltsc.co.uk/wp-content/uploads/2021/08/Chess.jpg
END:VEVENT
BEGIN:VEVENT
DTSTART;TZID=UTC:20220906T190000
DTEND;TZID=UTC:20220906T230000
DTSTAMP:20260421T085809
CREATED:20210805T103514Z
LAST-MODIFIED:20210805T103514Z
UID:10001546-1662490800-1662505200@www.lltsc.co.uk
SUMMARY:Leamington Chess Club
DESCRIPTION:
URL:https://www.lltsc.co.uk/event/leamington-chess-club/2022-09-06/
LOCATION:Meeting Room
ATTACH;FMTTYPE=image/jpeg:https://www.lltsc.co.uk/wp-content/uploads/2021/08/Chess.jpg
END:VEVENT
BEGIN:VEVENT
DTSTART;TZID=UTC:20220830T190000
DTEND;TZID=UTC:20220830T230000
DTSTAMP:20260421T085809
CREATED:20210805T103514Z
LAST-MODIFIED:20210805T103514Z
UID:10001545-1661886000-1661900400@www.lltsc.co.uk
SUMMARY:Leamington Chess Club
DESCRIPTION:
URL:https://www.lltsc.co.uk/event/leamington-chess-club/2022-08-30/
LOCATION:Meeting Room
ATTACH;FMTTYPE=image/jpeg:https://www.lltsc.co.uk/wp-content/uploads/2021/08/Chess.jpg
END:VEVENT
BEGIN:VEVENT
DTSTART;TZID=UTC:20220823T190000
DTEND;TZID=UTC:20220823T230000
DTSTAMP:20260421T085809
CREATED:20210805T103514Z
LAST-MODIFIED:20210805T103514Z
UID:10001544-1661281200-1661295600@www.lltsc.co.uk
SUMMARY:Leamington Chess Club
DESCRIPTION:
URL:https://www.lltsc.co.uk/event/leamington-chess-club/2022-08-23/
LOCATION:Meeting Room
ATTACH;FMTTYPE=image/jpeg:https://www.lltsc.co.uk/wp-content/uploads/2021/08/Chess.jpg
END:VEVENT
BEGIN:VEVENT
DTSTART;TZID=UTC:20220816T190000
DTEND;TZID=UTC:20220816T230000
DTSTAMP:20260421T085809
CREATED:20210805T103514Z
LAST-MODIFIED:20210805T103514Z
UID:10001543-1660676400-1660690800@www.lltsc.co.uk
SUMMARY:Leamington Chess Club
DESCRIPTION:
URL:https://www.lltsc.co.uk/event/leamington-chess-club/2022-08-16/
LOCATION:Meeting Room
ATTACH;FMTTYPE=image/jpeg:https://www.lltsc.co.uk/wp-content/uploads/2021/08/Chess.jpg
END:VEVENT
BEGIN:VEVENT
DTSTART;TZID=UTC:20220809T190000
DTEND;TZID=UTC:20220809T230000
DTSTAMP:20260421T085809
CREATED:20210805T103514Z
LAST-MODIFIED:20210805T103514Z
UID:10001542-1660071600-1660086000@www.lltsc.co.uk
SUMMARY:Leamington Chess Club
DESCRIPTION:
URL:https://www.lltsc.co.uk/event/leamington-chess-club/2022-08-09/
LOCATION:Meeting Room
ATTACH;FMTTYPE=image/jpeg:https://www.lltsc.co.uk/wp-content/uploads/2021/08/Chess.jpg
END:VEVENT
BEGIN:VEVENT
DTSTART;TZID=UTC:20220802T190000
DTEND;TZID=UTC:20220802T230000
DTSTAMP:20260421T085809
CREATED:20210805T103514Z
LAST-MODIFIED:20210805T103514Z
UID:10001541-1659466800-1659481200@www.lltsc.co.uk
SUMMARY:Leamington Chess Club
DESCRIPTION:
URL:https://www.lltsc.co.uk/event/leamington-chess-club/2022-08-02/
LOCATION:Meeting Room
ATTACH;FMTTYPE=image/jpeg:https://www.lltsc.co.uk/wp-content/uploads/2021/08/Chess.jpg
END:VEVENT
BEGIN:VEVENT
DTSTART;TZID=UTC:20220726T190000
DTEND;TZID=UTC:20220726T230000
DTSTAMP:20260421T085809
CREATED:20210805T103514Z
LAST-MODIFIED:20210805T103514Z
UID:10001540-1658862000-1658876400@www.lltsc.co.uk
SUMMARY:Leamington Chess Club
DESCRIPTION:
URL:https://www.lltsc.co.uk/event/leamington-chess-club/2022-07-26/
LOCATION:Meeting Room
ATTACH;FMTTYPE=image/jpeg:https://www.lltsc.co.uk/wp-content/uploads/2021/08/Chess.jpg
END:VEVENT
BEGIN:VEVENT
DTSTART;TZID=UTC:20220721T190000
DTEND;TZID=UTC:20220721T223000
DTSTAMP:20260421T085809
CREATED:20220721T081835Z
LAST-MODIFIED:20220721T081835Z
UID:10002067-1658430000-1658442600@www.lltsc.co.uk
SUMMARY:Squash Committee Meeting
DESCRIPTION:
URL:https://www.lltsc.co.uk/event/squash-committee-meeting-4/
LOCATION:Meeting Room
END:VEVENT
BEGIN:VEVENT
DTSTART;TZID=UTC:20220719T190000
DTEND;TZID=UTC:20220719T230000
DTSTAMP:20260421T085809
CREATED:20210805T103514Z
LAST-MODIFIED:20210805T103514Z
UID:10001539-1658257200-1658271600@www.lltsc.co.uk
SUMMARY:Leamington Chess Club
DESCRIPTION:
URL:https://www.lltsc.co.uk/event/leamington-chess-club/2022-07-19/
LOCATION:Meeting Room
ATTACH;FMTTYPE=image/jpeg:https://www.lltsc.co.uk/wp-content/uploads/2021/08/Chess.jpg
END:VEVENT
BEGIN:VEVENT
DTSTART;TZID=UTC:20220714T100000
DTEND;TZID=UTC:20220714T123000
DTSTAMP:20260421T085809
CREATED:20211112T122947Z
LAST-MODIFIED:20211112T122947Z
UID:10001909-1657792800-1657801800@www.lltsc.co.uk
SUMMARY:Friendship Project Meeting
DESCRIPTION:
URL:https://www.lltsc.co.uk/event/friendship-project-meeting-4/
LOCATION:Meeting Room
END:VEVENT
BEGIN:VEVENT
DTSTART;TZID=UTC:20220712T190000
DTEND;TZID=UTC:20220712T230000
DTSTAMP:20260421T085809
CREATED:20210805T103514Z
LAST-MODIFIED:20210805T103514Z
UID:10001538-1657652400-1657666800@www.lltsc.co.uk
SUMMARY:Leamington Chess Club
DESCRIPTION:
URL:https://www.lltsc.co.uk/event/leamington-chess-club/2022-07-12/
LOCATION:Meeting Room
ATTACH;FMTTYPE=image/jpeg:https://www.lltsc.co.uk/wp-content/uploads/2021/08/Chess.jpg
END:VEVENT
BEGIN:VEVENT
DTSTART;TZID=UTC:20220705T190000
DTEND;TZID=UTC:20220705T230000
DTSTAMP:20260421T085809
CREATED:20210805T103514Z
LAST-MODIFIED:20210805T103514Z
UID:10001537-1657047600-1657062000@www.lltsc.co.uk
SUMMARY:Leamington Chess Club
DESCRIPTION:
URL:https://www.lltsc.co.uk/event/leamington-chess-club/2022-07-05/
LOCATION:Meeting Room
ATTACH;FMTTYPE=image/jpeg:https://www.lltsc.co.uk/wp-content/uploads/2021/08/Chess.jpg
END:VEVENT
BEGIN:VEVENT
DTSTART;TZID=UTC:20220628T190000
DTEND;TZID=UTC:20220628T230000
DTSTAMP:20260421T085809
CREATED:20210805T103514Z
LAST-MODIFIED:20210805T103514Z
UID:10001536-1656442800-1656457200@www.lltsc.co.uk
SUMMARY:Leamington Chess Club
DESCRIPTION:
URL:https://www.lltsc.co.uk/event/leamington-chess-club/2022-06-28/
LOCATION:Meeting Room
ATTACH;FMTTYPE=image/jpeg:https://www.lltsc.co.uk/wp-content/uploads/2021/08/Chess.jpg
END:VEVENT
BEGIN:VEVENT
DTSTART;TZID=UTC:20220621T190000
DTEND;TZID=UTC:20220621T230000
DTSTAMP:20260421T085809
CREATED:20210805T103514Z
LAST-MODIFIED:20210805T103514Z
UID:10001535-1655838000-1655852400@www.lltsc.co.uk
SUMMARY:Leamington Chess Club
DESCRIPTION:
URL:https://www.lltsc.co.uk/event/leamington-chess-club/2022-06-21/
LOCATION:Meeting Room
ATTACH;FMTTYPE=image/jpeg:https://www.lltsc.co.uk/wp-content/uploads/2021/08/Chess.jpg
END:VEVENT
BEGIN:VEVENT
DTSTART;TZID=UTC:20220614T190000
DTEND;TZID=UTC:20220614T230000
DTSTAMP:20260421T085809
CREATED:20210805T103514Z
LAST-MODIFIED:20210805T103514Z
UID:10001534-1655233200-1655247600@www.lltsc.co.uk
SUMMARY:Leamington Chess Club
DESCRIPTION:
URL:https://www.lltsc.co.uk/event/leamington-chess-club/2022-06-14/
LOCATION:Meeting Room
ATTACH;FMTTYPE=image/jpeg:https://www.lltsc.co.uk/wp-content/uploads/2021/08/Chess.jpg
END:VEVENT
BEGIN:VEVENT
DTSTART;TZID=UTC:20220607T190000
DTEND;TZID=UTC:20220607T230000
DTSTAMP:20260421T085809
CREATED:20210805T103514Z
LAST-MODIFIED:20210805T103514Z
UID:10001533-1654628400-1654642800@www.lltsc.co.uk
SUMMARY:Leamington Chess Club
DESCRIPTION:
URL:https://www.lltsc.co.uk/event/leamington-chess-club/2022-06-07/
LOCATION:Meeting Room
ATTACH;FMTTYPE=image/jpeg:https://www.lltsc.co.uk/wp-content/uploads/2021/08/Chess.jpg
END:VEVENT
BEGIN:VEVENT
DTSTART;TZID=UTC:20220531T190000
DTEND;TZID=UTC:20220531T230000
DTSTAMP:20260421T085809
CREATED:20210805T103514Z
LAST-MODIFIED:20210805T103514Z
UID:10001532-1654023600-1654038000@www.lltsc.co.uk
SUMMARY:Leamington Chess Club
DESCRIPTION:
URL:https://www.lltsc.co.uk/event/leamington-chess-club/2022-05-31/
LOCATION:Meeting Room
ATTACH;FMTTYPE=image/jpeg:https://www.lltsc.co.uk/wp-content/uploads/2021/08/Chess.jpg
END:VEVENT
BEGIN:VEVENT
DTSTART;TZID=UTC:20220524T190000
DTEND;TZID=UTC:20220524T230000
DTSTAMP:20260421T085809
CREATED:20210805T103514Z
LAST-MODIFIED:20210805T103514Z
UID:10001531-1653418800-1653433200@www.lltsc.co.uk
SUMMARY:Leamington Chess Club
DESCRIPTION:
URL:https://www.lltsc.co.uk/event/leamington-chess-club/2022-05-24/
LOCATION:Meeting Room
ATTACH;FMTTYPE=image/jpeg:https://www.lltsc.co.uk/wp-content/uploads/2021/08/Chess.jpg
END:VEVENT
BEGIN:VEVENT
DTSTART;TZID=UTC:20220517T190000
DTEND;TZID=UTC:20220517T230000
DTSTAMP:20260421T085809
CREATED:20210805T103514Z
LAST-MODIFIED:20210805T103514Z
UID:10001530-1652814000-1652828400@www.lltsc.co.uk
SUMMARY:Leamington Chess Club
DESCRIPTION:
URL:https://www.lltsc.co.uk/event/leamington-chess-club/2022-05-17/
LOCATION:Meeting Room
ATTACH;FMTTYPE=image/jpeg:https://www.lltsc.co.uk/wp-content/uploads/2021/08/Chess.jpg
END:VEVENT
BEGIN:VEVENT
DTSTART;TZID=UTC:20220512T100000
DTEND;TZID=UTC:20220512T123000
DTSTAMP:20260421T085809
CREATED:20211112T122900Z
LAST-MODIFIED:20211112T122900Z
UID:10001903-1652349600-1652358600@www.lltsc.co.uk
SUMMARY:Friendship Project Meeting
DESCRIPTION:
URL:https://www.lltsc.co.uk/event/friendship-project-meeting-3/
LOCATION:Meeting Room
END:VEVENT
BEGIN:VEVENT
DTSTART;TZID=UTC:20220510T190000
DTEND;TZID=UTC:20220510T230000
DTSTAMP:20260421T085809
CREATED:20210805T103514Z
LAST-MODIFIED:20210805T103514Z
UID:10001529-1652209200-1652223600@www.lltsc.co.uk
SUMMARY:Leamington Chess Club
DESCRIPTION:
URL:https://www.lltsc.co.uk/event/leamington-chess-club/2022-05-10/
LOCATION:Meeting Room
ATTACH;FMTTYPE=image/jpeg:https://www.lltsc.co.uk/wp-content/uploads/2021/08/Chess.jpg
END:VEVENT
BEGIN:VEVENT
DTSTART;TZID=UTC:20220504T193000
DTEND;TZID=UTC:20220504T230000
DTSTAMP:20260421T085809
CREATED:20220112T135842Z
LAST-MODIFIED:20220112T140035Z
UID:10001931-1651692600-1651705200@www.lltsc.co.uk
SUMMARY:Member Meeting
DESCRIPTION:Martin Lusby
URL:https://www.lltsc.co.uk/event/member-meeting-9/
LOCATION:Meeting Room
END:VEVENT
BEGIN:VEVENT
DTSTART;TZID=UTC:20220503T190000
DTEND;TZID=UTC:20220503T230000
DTSTAMP:20260421T085809
CREATED:20210805T103514Z
LAST-MODIFIED:20210805T103514Z
UID:10001528-1651604400-1651618800@www.lltsc.co.uk
SUMMARY:Leamington Chess Club
DESCRIPTION:
URL:https://www.lltsc.co.uk/event/leamington-chess-club/2022-05-03/
LOCATION:Meeting Room
ATTACH;FMTTYPE=image/jpeg:https://www.lltsc.co.uk/wp-content/uploads/2021/08/Chess.jpg
END:VEVENT
BEGIN:VEVENT
DTSTART;TZID=UTC:20220426T190000
DTEND;TZID=UTC:20220426T230000
DTSTAMP:20260421T085809
CREATED:20210805T103514Z
LAST-MODIFIED:20210805T103514Z
UID:10001527-1650999600-1651014000@www.lltsc.co.uk
SUMMARY:Leamington Chess Club
DESCRIPTION:
URL:https://www.lltsc.co.uk/event/leamington-chess-club/2022-04-26/
LOCATION:Meeting Room
ATTACH;FMTTYPE=image/jpeg:https://www.lltsc.co.uk/wp-content/uploads/2021/08/Chess.jpg
END:VEVENT
BEGIN:VEVENT
DTSTART;TZID=UTC:20220419T190000
DTEND;TZID=UTC:20220419T230000
DTSTAMP:20260421T085809
CREATED:20210805T103514Z
LAST-MODIFIED:20210805T103514Z
UID:10001526-1650394800-1650409200@www.lltsc.co.uk
SUMMARY:Leamington Chess Club
DESCRIPTION:
URL:https://www.lltsc.co.uk/event/leamington-chess-club/2022-04-19/
LOCATION:Meeting Room
ATTACH;FMTTYPE=image/jpeg:https://www.lltsc.co.uk/wp-content/uploads/2021/08/Chess.jpg
END:VEVENT
BEGIN:VEVENT
DTSTART;TZID=UTC:20220412T190000
DTEND;TZID=UTC:20220412T230000
DTSTAMP:20260421T085809
CREATED:20210805T103514Z
LAST-MODIFIED:20210805T103514Z
UID:10001525-1649790000-1649804400@www.lltsc.co.uk
SUMMARY:Leamington Chess Club
DESCRIPTION:
URL:https://www.lltsc.co.uk/event/leamington-chess-club/2022-04-12/
LOCATION:Meeting Room
ATTACH;FMTTYPE=image/jpeg:https://www.lltsc.co.uk/wp-content/uploads/2021/08/Chess.jpg
END:VEVENT
END:VCALENDAR