BEGIN:VCALENDAR
VERSION:2.0
PRODID:-//LLTSC - ECPv6.15.15//NONSGML v1.0//EN
CALSCALE:GREGORIAN
METHOD:PUBLISH
X-WR-CALNAME:LLTSC
X-ORIGINAL-URL:https://www.lltsc.co.uk
X-WR-CALDESC:Events for LLTSC
REFRESH-INTERVAL;VALUE=DURATION:PT1H
X-Robots-Tag:noindex
X-PUBLISHED-TTL:PT1H
BEGIN:VTIMEZONE
TZID:UTC
BEGIN:STANDARD
TZOFFSETFROM:+0000
TZOFFSETTO:+0000
TZNAME:UTC
DTSTART:20260101T000000
END:STANDARD
END:VTIMEZONE
BEGIN:VEVENT
DTSTART;TZID=UTC:20270720T190000
DTEND;TZID=UTC:20270720T230000
DTSTAMP:20260422T075808
CREATED:20210805T103514Z
LAST-MODIFIED:20210805T103514Z
UID:10001800-1816110000-1816124400@www.lltsc.co.uk
SUMMARY:Leamington Chess Club
DESCRIPTION:
URL:https://www.lltsc.co.uk/event/leamington-chess-club/2027-07-20/
LOCATION:Meeting Room
ATTACH;FMTTYPE=image/jpeg:https://www.lltsc.co.uk/wp-content/uploads/2021/08/Chess.jpg
END:VEVENT
BEGIN:VEVENT
DTSTART;TZID=UTC:20270722T123000
DTEND;TZID=UTC:20270722T163000
DTSTAMP:20260422T075808
CREATED:20230331T110310Z
LAST-MODIFIED:20230331T110430Z
UID:10002474-1816259400-1816273800@www.lltsc.co.uk
SUMMARY:Physiotherapist
DESCRIPTION:Sharon Swift will be offering Physiotherapy sessions for members at a discounted rate. Contact Sharon on 07900 262765
URL:https://www.lltsc.co.uk/event/physiotherapist/2027-07-22/
LOCATION:Meeting Room
END:VEVENT
BEGIN:VEVENT
DTSTART;TZID=UTC:20270727T190000
DTEND;TZID=UTC:20270727T230000
DTSTAMP:20260422T075808
CREATED:20210805T103514Z
LAST-MODIFIED:20210805T103514Z
UID:10001801-1816714800-1816729200@www.lltsc.co.uk
SUMMARY:Leamington Chess Club
DESCRIPTION:
URL:https://www.lltsc.co.uk/event/leamington-chess-club/2027-07-27/
LOCATION:Meeting Room
ATTACH;FMTTYPE=image/jpeg:https://www.lltsc.co.uk/wp-content/uploads/2021/08/Chess.jpg
END:VEVENT
BEGIN:VEVENT
DTSTART;TZID=UTC:20270729T123000
DTEND;TZID=UTC:20270729T163000
DTSTAMP:20260422T075808
CREATED:20230331T110310Z
LAST-MODIFIED:20230331T110430Z
UID:10002475-1816864200-1816878600@www.lltsc.co.uk
SUMMARY:Physiotherapist
DESCRIPTION:Sharon Swift will be offering Physiotherapy sessions for members at a discounted rate. Contact Sharon on 07900 262765
URL:https://www.lltsc.co.uk/event/physiotherapist/2027-07-29/
LOCATION:Meeting Room
END:VEVENT
BEGIN:VEVENT
DTSTART;TZID=UTC:20270731T133000
DTEND;TZID=UTC:20270731T170000
DTSTAMP:20260422T075808
CREATED:20251120T095524Z
LAST-MODIFIED:20251120T095524Z
UID:10004070-1817040600-1817053200@www.lltsc.co.uk
SUMMARY:Member Meeting
DESCRIPTION:David Frost – Italian Group
URL:https://www.lltsc.co.uk/event/member-meeting-26-2/2027-07-31/
LOCATION:Meeting Room
END:VEVENT
BEGIN:VEVENT
DTSTART;TZID=UTC:20270803T190000
DTEND;TZID=UTC:20270803T230000
DTSTAMP:20260422T075808
CREATED:20210805T103514Z
LAST-MODIFIED:20210805T103514Z
UID:10001802-1817319600-1817334000@www.lltsc.co.uk
SUMMARY:Leamington Chess Club
DESCRIPTION:
URL:https://www.lltsc.co.uk/event/leamington-chess-club/2027-08-03/
LOCATION:Meeting Room
ATTACH;FMTTYPE=image/jpeg:https://www.lltsc.co.uk/wp-content/uploads/2021/08/Chess.jpg
END:VEVENT
BEGIN:VEVENT
DTSTART;TZID=UTC:20270805T123000
DTEND;TZID=UTC:20270805T163000
DTSTAMP:20260422T075808
CREATED:20230331T110310Z
LAST-MODIFIED:20230331T110430Z
UID:10002476-1817469000-1817483400@www.lltsc.co.uk
SUMMARY:Physiotherapist
DESCRIPTION:Sharon Swift will be offering Physiotherapy sessions for members at a discounted rate. Contact Sharon on 07900 262765
URL:https://www.lltsc.co.uk/event/physiotherapist/2027-08-05/
LOCATION:Meeting Room
END:VEVENT
BEGIN:VEVENT
DTSTART;TZID=UTC:20270810T190000
DTEND;TZID=UTC:20270810T230000
DTSTAMP:20260422T075808
CREATED:20210805T103514Z
LAST-MODIFIED:20210805T103514Z
UID:10001803-1817924400-1817938800@www.lltsc.co.uk
SUMMARY:Leamington Chess Club
DESCRIPTION:
URL:https://www.lltsc.co.uk/event/leamington-chess-club/2027-08-10/
LOCATION:Meeting Room
ATTACH;FMTTYPE=image/jpeg:https://www.lltsc.co.uk/wp-content/uploads/2021/08/Chess.jpg
END:VEVENT
BEGIN:VEVENT
DTSTART;TZID=UTC:20270812T123000
DTEND;TZID=UTC:20270812T163000
DTSTAMP:20260422T075808
CREATED:20230331T110310Z
LAST-MODIFIED:20230331T110430Z
UID:10002477-1818073800-1818088200@www.lltsc.co.uk
SUMMARY:Physiotherapist
DESCRIPTION:Sharon Swift will be offering Physiotherapy sessions for members at a discounted rate. Contact Sharon on 07900 262765
URL:https://www.lltsc.co.uk/event/physiotherapist/2027-08-12/
LOCATION:Meeting Room
END:VEVENT
BEGIN:VEVENT
DTSTART;TZID=UTC:20270817T190000
DTEND;TZID=UTC:20270817T230000
DTSTAMP:20260422T075808
CREATED:20210805T103514Z
LAST-MODIFIED:20210805T103514Z
UID:10001804-1818529200-1818543600@www.lltsc.co.uk
SUMMARY:Leamington Chess Club
DESCRIPTION:
URL:https://www.lltsc.co.uk/event/leamington-chess-club/2027-08-17/
LOCATION:Meeting Room
ATTACH;FMTTYPE=image/jpeg:https://www.lltsc.co.uk/wp-content/uploads/2021/08/Chess.jpg
END:VEVENT
BEGIN:VEVENT
DTSTART;TZID=UTC:20270819T123000
DTEND;TZID=UTC:20270819T163000
DTSTAMP:20260422T075808
CREATED:20230331T110310Z
LAST-MODIFIED:20230331T110430Z
UID:10002478-1818678600-1818693000@www.lltsc.co.uk
SUMMARY:Physiotherapist
DESCRIPTION:Sharon Swift will be offering Physiotherapy sessions for members at a discounted rate. Contact Sharon on 07900 262765
URL:https://www.lltsc.co.uk/event/physiotherapist/2027-08-19/
LOCATION:Meeting Room
END:VEVENT
BEGIN:VEVENT
DTSTART;TZID=UTC:20270824T190000
DTEND;TZID=UTC:20270824T230000
DTSTAMP:20260422T075808
CREATED:20210805T103514Z
LAST-MODIFIED:20210805T103514Z
UID:10001805-1819134000-1819148400@www.lltsc.co.uk
SUMMARY:Leamington Chess Club
DESCRIPTION:
URL:https://www.lltsc.co.uk/event/leamington-chess-club/2027-08-24/
LOCATION:Meeting Room
ATTACH;FMTTYPE=image/jpeg:https://www.lltsc.co.uk/wp-content/uploads/2021/08/Chess.jpg
END:VEVENT
BEGIN:VEVENT
DTSTART;TZID=UTC:20270826T123000
DTEND;TZID=UTC:20270826T163000
DTSTAMP:20260422T075808
CREATED:20230331T110310Z
LAST-MODIFIED:20230331T110430Z
UID:10002479-1819283400-1819297800@www.lltsc.co.uk
SUMMARY:Physiotherapist
DESCRIPTION:Sharon Swift will be offering Physiotherapy sessions for members at a discounted rate. Contact Sharon on 07900 262765
URL:https://www.lltsc.co.uk/event/physiotherapist/2027-08-26/
LOCATION:Meeting Room
END:VEVENT
BEGIN:VEVENT
DTSTART;TZID=UTC:20270828T133000
DTEND;TZID=UTC:20270828T170000
DTSTAMP:20260422T075808
CREATED:20251120T095524Z
LAST-MODIFIED:20251120T095524Z
UID:10004071-1819459800-1819472400@www.lltsc.co.uk
SUMMARY:Member Meeting
DESCRIPTION:David Frost – Italian Group
URL:https://www.lltsc.co.uk/event/member-meeting-26-2/2027-08-28/
LOCATION:Meeting Room
END:VEVENT
BEGIN:VEVENT
DTSTART;TZID=UTC:20270831T190000
DTEND;TZID=UTC:20270831T230000
DTSTAMP:20260422T075808
CREATED:20210805T103514Z
LAST-MODIFIED:20210805T103514Z
UID:10001806-1819738800-1819753200@www.lltsc.co.uk
SUMMARY:Leamington Chess Club
DESCRIPTION:
URL:https://www.lltsc.co.uk/event/leamington-chess-club/2027-08-31/
LOCATION:Meeting Room
ATTACH;FMTTYPE=image/jpeg:https://www.lltsc.co.uk/wp-content/uploads/2021/08/Chess.jpg
END:VEVENT
BEGIN:VEVENT
DTSTART;TZID=UTC:20270902T123000
DTEND;TZID=UTC:20270902T163000
DTSTAMP:20260422T075808
CREATED:20230331T110310Z
LAST-MODIFIED:20230331T110430Z
UID:10002480-1819888200-1819902600@www.lltsc.co.uk
SUMMARY:Physiotherapist
DESCRIPTION:Sharon Swift will be offering Physiotherapy sessions for members at a discounted rate. Contact Sharon on 07900 262765
URL:https://www.lltsc.co.uk/event/physiotherapist/2027-09-02/
LOCATION:Meeting Room
END:VEVENT
BEGIN:VEVENT
DTSTART;TZID=UTC:20270907T190000
DTEND;TZID=UTC:20270907T230000
DTSTAMP:20260422T075808
CREATED:20210805T103514Z
LAST-MODIFIED:20210805T103514Z
UID:10001807-1820343600-1820358000@www.lltsc.co.uk
SUMMARY:Leamington Chess Club
DESCRIPTION:
URL:https://www.lltsc.co.uk/event/leamington-chess-club/2027-09-07/
LOCATION:Meeting Room
ATTACH;FMTTYPE=image/jpeg:https://www.lltsc.co.uk/wp-content/uploads/2021/08/Chess.jpg
END:VEVENT
BEGIN:VEVENT
DTSTART;TZID=UTC:20270909T123000
DTEND;TZID=UTC:20270909T163000
DTSTAMP:20260422T075808
CREATED:20230331T110310Z
LAST-MODIFIED:20230331T110430Z
UID:10002481-1820493000-1820507400@www.lltsc.co.uk
SUMMARY:Physiotherapist
DESCRIPTION:Sharon Swift will be offering Physiotherapy sessions for members at a discounted rate. Contact Sharon on 07900 262765
URL:https://www.lltsc.co.uk/event/physiotherapist/2027-09-09/
LOCATION:Meeting Room
END:VEVENT
BEGIN:VEVENT
DTSTART;TZID=UTC:20270914T190000
DTEND;TZID=UTC:20270914T230000
DTSTAMP:20260422T075808
CREATED:20210805T103514Z
LAST-MODIFIED:20210805T103514Z
UID:10001808-1820948400-1820962800@www.lltsc.co.uk
SUMMARY:Leamington Chess Club
DESCRIPTION:
URL:https://www.lltsc.co.uk/event/leamington-chess-club/2027-09-14/
LOCATION:Meeting Room
ATTACH;FMTTYPE=image/jpeg:https://www.lltsc.co.uk/wp-content/uploads/2021/08/Chess.jpg
END:VEVENT
BEGIN:VEVENT
DTSTART;TZID=UTC:20270916T123000
DTEND;TZID=UTC:20270916T163000
DTSTAMP:20260422T075808
CREATED:20230331T110310Z
LAST-MODIFIED:20230331T110430Z
UID:10002482-1821097800-1821112200@www.lltsc.co.uk
SUMMARY:Physiotherapist
DESCRIPTION:Sharon Swift will be offering Physiotherapy sessions for members at a discounted rate. Contact Sharon on 07900 262765
URL:https://www.lltsc.co.uk/event/physiotherapist/2027-09-16/
LOCATION:Meeting Room
END:VEVENT
BEGIN:VEVENT
DTSTART;TZID=UTC:20270921T190000
DTEND;TZID=UTC:20270921T230000
DTSTAMP:20260422T075808
CREATED:20210805T103514Z
LAST-MODIFIED:20210805T103514Z
UID:10001809-1821553200-1821567600@www.lltsc.co.uk
SUMMARY:Leamington Chess Club
DESCRIPTION:
URL:https://www.lltsc.co.uk/event/leamington-chess-club/2027-09-21/
LOCATION:Meeting Room
ATTACH;FMTTYPE=image/jpeg:https://www.lltsc.co.uk/wp-content/uploads/2021/08/Chess.jpg
END:VEVENT
BEGIN:VEVENT
DTSTART;TZID=UTC:20270923T123000
DTEND;TZID=UTC:20270923T163000
DTSTAMP:20260422T075808
CREATED:20230331T110310Z
LAST-MODIFIED:20230331T110430Z
UID:10002483-1821702600-1821717000@www.lltsc.co.uk
SUMMARY:Physiotherapist
DESCRIPTION:Sharon Swift will be offering Physiotherapy sessions for members at a discounted rate. Contact Sharon on 07900 262765
URL:https://www.lltsc.co.uk/event/physiotherapist/2027-09-23/
LOCATION:Meeting Room
END:VEVENT
BEGIN:VEVENT
DTSTART;TZID=UTC:20270925T133000
DTEND;TZID=UTC:20270925T170000
DTSTAMP:20260422T075808
CREATED:20251120T095524Z
LAST-MODIFIED:20251120T095524Z
UID:10004072-1821879000-1821891600@www.lltsc.co.uk
SUMMARY:Member Meeting
DESCRIPTION:David Frost – Italian Group
URL:https://www.lltsc.co.uk/event/member-meeting-26-2/2027-09-25/
LOCATION:Meeting Room
END:VEVENT
BEGIN:VEVENT
DTSTART;TZID=UTC:20270928T190000
DTEND;TZID=UTC:20270928T230000
DTSTAMP:20260422T075808
CREATED:20210805T103514Z
LAST-MODIFIED:20210805T103514Z
UID:10001810-1822158000-1822172400@www.lltsc.co.uk
SUMMARY:Leamington Chess Club
DESCRIPTION:
URL:https://www.lltsc.co.uk/event/leamington-chess-club/2027-09-28/
LOCATION:Meeting Room
ATTACH;FMTTYPE=image/jpeg:https://www.lltsc.co.uk/wp-content/uploads/2021/08/Chess.jpg
END:VEVENT
BEGIN:VEVENT
DTSTART;TZID=UTC:20270930T123000
DTEND;TZID=UTC:20270930T163000
DTSTAMP:20260422T075808
CREATED:20230331T110310Z
LAST-MODIFIED:20230331T110430Z
UID:10002484-1822307400-1822321800@www.lltsc.co.uk
SUMMARY:Physiotherapist
DESCRIPTION:Sharon Swift will be offering Physiotherapy sessions for members at a discounted rate. Contact Sharon on 07900 262765
URL:https://www.lltsc.co.uk/event/physiotherapist/2027-09-30/
LOCATION:Meeting Room
END:VEVENT
BEGIN:VEVENT
DTSTART;TZID=UTC:20271005T190000
DTEND;TZID=UTC:20271005T230000
DTSTAMP:20260422T075808
CREATED:20210805T103514Z
LAST-MODIFIED:20210805T103514Z
UID:10001811-1822762800-1822777200@www.lltsc.co.uk
SUMMARY:Leamington Chess Club
DESCRIPTION:
URL:https://www.lltsc.co.uk/event/leamington-chess-club/2027-10-05/
LOCATION:Meeting Room
ATTACH;FMTTYPE=image/jpeg:https://www.lltsc.co.uk/wp-content/uploads/2021/08/Chess.jpg
END:VEVENT
BEGIN:VEVENT
DTSTART;TZID=UTC:20271007T123000
DTEND;TZID=UTC:20271007T163000
DTSTAMP:20260422T075808
CREATED:20230331T110310Z
LAST-MODIFIED:20230331T110430Z
UID:10002485-1822912200-1822926600@www.lltsc.co.uk
SUMMARY:Physiotherapist
DESCRIPTION:Sharon Swift will be offering Physiotherapy sessions for members at a discounted rate. Contact Sharon on 07900 262765
URL:https://www.lltsc.co.uk/event/physiotherapist/2027-10-07/
LOCATION:Meeting Room
END:VEVENT
BEGIN:VEVENT
DTSTART;TZID=UTC:20271012T190000
DTEND;TZID=UTC:20271012T230000
DTSTAMP:20260422T075808
CREATED:20210805T103514Z
LAST-MODIFIED:20210805T103514Z
UID:10001812-1823367600-1823382000@www.lltsc.co.uk
SUMMARY:Leamington Chess Club
DESCRIPTION:
URL:https://www.lltsc.co.uk/event/leamington-chess-club/2027-10-12/
LOCATION:Meeting Room
ATTACH;FMTTYPE=image/jpeg:https://www.lltsc.co.uk/wp-content/uploads/2021/08/Chess.jpg
END:VEVENT
BEGIN:VEVENT
DTSTART;TZID=UTC:20271014T123000
DTEND;TZID=UTC:20271014T163000
DTSTAMP:20260422T075808
CREATED:20230331T110310Z
LAST-MODIFIED:20230331T110430Z
UID:10002486-1823517000-1823531400@www.lltsc.co.uk
SUMMARY:Physiotherapist
DESCRIPTION:Sharon Swift will be offering Physiotherapy sessions for members at a discounted rate. Contact Sharon on 07900 262765
URL:https://www.lltsc.co.uk/event/physiotherapist/2027-10-14/
LOCATION:Meeting Room
END:VEVENT
BEGIN:VEVENT
DTSTART;TZID=UTC:20271019T190000
DTEND;TZID=UTC:20271019T230000
DTSTAMP:20260422T075808
CREATED:20210805T103514Z
LAST-MODIFIED:20210805T103514Z
UID:10001813-1823972400-1823986800@www.lltsc.co.uk
SUMMARY:Leamington Chess Club
DESCRIPTION:
URL:https://www.lltsc.co.uk/event/leamington-chess-club/2027-10-19/
LOCATION:Meeting Room
ATTACH;FMTTYPE=image/jpeg:https://www.lltsc.co.uk/wp-content/uploads/2021/08/Chess.jpg
END:VEVENT
END:VCALENDAR