BEGIN:VCALENDAR
VERSION:2.0
PRODID:-//LLTSC - ECPv6.15.15//NONSGML v1.0//EN
CALSCALE:GREGORIAN
METHOD:PUBLISH
X-WR-CALNAME:LLTSC
X-ORIGINAL-URL:https://www.lltsc.co.uk
X-WR-CALDESC:Events for LLTSC
REFRESH-INTERVAL;VALUE=DURATION:PT1H
X-Robots-Tag:noindex
X-PUBLISHED-TTL:PT1H
BEGIN:VTIMEZONE
TZID:UTC
BEGIN:STANDARD
TZOFFSETFROM:+0000
TZOFFSETTO:+0000
TZNAME:UTC
DTSTART:20260101T000000
END:STANDARD
END:VTIMEZONE
BEGIN:VEVENT
DTSTART;TZID=UTC:20270325T123000
DTEND;TZID=UTC:20270325T163000
DTSTAMP:20260421T224339
CREATED:20230331T110310Z
LAST-MODIFIED:20230331T110430Z
UID:10002457-1805977800-1805992200@www.lltsc.co.uk
SUMMARY:Physiotherapist
DESCRIPTION:Sharon Swift will be offering Physiotherapy sessions for members at a discounted rate. Contact Sharon on 07900 262765
URL:https://www.lltsc.co.uk/event/physiotherapist/2027-03-25/
LOCATION:Meeting Room
END:VEVENT
BEGIN:VEVENT
DTSTART;TZID=UTC:20270327T133000
DTEND;TZID=UTC:20270327T170000
DTSTAMP:20260421T224339
CREATED:20251120T095524Z
LAST-MODIFIED:20251120T095524Z
UID:10004066-1806154200-1806166800@www.lltsc.co.uk
SUMMARY:Member Meeting
DESCRIPTION:David Frost – Italian Group
URL:https://www.lltsc.co.uk/event/member-meeting-26-2/2027-03-27/
LOCATION:Meeting Room
END:VEVENT
BEGIN:VEVENT
DTSTART;TZID=UTC:20270330T190000
DTEND;TZID=UTC:20270330T230000
DTSTAMP:20260421T224339
CREATED:20210805T103514Z
LAST-MODIFIED:20210805T103514Z
UID:10001784-1806433200-1806447600@www.lltsc.co.uk
SUMMARY:Leamington Chess Club
DESCRIPTION:
URL:https://www.lltsc.co.uk/event/leamington-chess-club/2027-03-30/
LOCATION:Meeting Room
ATTACH;FMTTYPE=image/jpeg:https://www.lltsc.co.uk/wp-content/uploads/2021/08/Chess.jpg
END:VEVENT
BEGIN:VEVENT
DTSTART;TZID=UTC:20270401T123000
DTEND;TZID=UTC:20270401T163000
DTSTAMP:20260421T224339
CREATED:20230331T110310Z
LAST-MODIFIED:20230331T110430Z
UID:10002458-1806582600-1806597000@www.lltsc.co.uk
SUMMARY:Physiotherapist
DESCRIPTION:Sharon Swift will be offering Physiotherapy sessions for members at a discounted rate. Contact Sharon on 07900 262765
URL:https://www.lltsc.co.uk/event/physiotherapist/2027-04-01/
LOCATION:Meeting Room
END:VEVENT
BEGIN:VEVENT
DTSTART;TZID=UTC:20270406T190000
DTEND;TZID=UTC:20270406T230000
DTSTAMP:20260421T224339
CREATED:20210805T103514Z
LAST-MODIFIED:20210805T103514Z
UID:10001785-1807038000-1807052400@www.lltsc.co.uk
SUMMARY:Leamington Chess Club
DESCRIPTION:
URL:https://www.lltsc.co.uk/event/leamington-chess-club/2027-04-06/
LOCATION:Meeting Room
ATTACH;FMTTYPE=image/jpeg:https://www.lltsc.co.uk/wp-content/uploads/2021/08/Chess.jpg
END:VEVENT
BEGIN:VEVENT
DTSTART;TZID=UTC:20270408T123000
DTEND;TZID=UTC:20270408T163000
DTSTAMP:20260421T224339
CREATED:20230331T110310Z
LAST-MODIFIED:20230331T110430Z
UID:10002459-1807187400-1807201800@www.lltsc.co.uk
SUMMARY:Physiotherapist
DESCRIPTION:Sharon Swift will be offering Physiotherapy sessions for members at a discounted rate. Contact Sharon on 07900 262765
URL:https://www.lltsc.co.uk/event/physiotherapist/2027-04-08/
LOCATION:Meeting Room
END:VEVENT
BEGIN:VEVENT
DTSTART;TZID=UTC:20270413T190000
DTEND;TZID=UTC:20270413T230000
DTSTAMP:20260421T224339
CREATED:20210805T103514Z
LAST-MODIFIED:20210805T103514Z
UID:10001786-1807642800-1807657200@www.lltsc.co.uk
SUMMARY:Leamington Chess Club
DESCRIPTION:
URL:https://www.lltsc.co.uk/event/leamington-chess-club/2027-04-13/
LOCATION:Meeting Room
ATTACH;FMTTYPE=image/jpeg:https://www.lltsc.co.uk/wp-content/uploads/2021/08/Chess.jpg
END:VEVENT
BEGIN:VEVENT
DTSTART;TZID=UTC:20270415T123000
DTEND;TZID=UTC:20270415T163000
DTSTAMP:20260421T224339
CREATED:20230331T110310Z
LAST-MODIFIED:20230331T110430Z
UID:10002460-1807792200-1807806600@www.lltsc.co.uk
SUMMARY:Physiotherapist
DESCRIPTION:Sharon Swift will be offering Physiotherapy sessions for members at a discounted rate. Contact Sharon on 07900 262765
URL:https://www.lltsc.co.uk/event/physiotherapist/2027-04-15/
LOCATION:Meeting Room
END:VEVENT
BEGIN:VEVENT
DTSTART;TZID=UTC:20270420T190000
DTEND;TZID=UTC:20270420T230000
DTSTAMP:20260421T224340
CREATED:20210805T103514Z
LAST-MODIFIED:20210805T103514Z
UID:10001787-1808247600-1808262000@www.lltsc.co.uk
SUMMARY:Leamington Chess Club
DESCRIPTION:
URL:https://www.lltsc.co.uk/event/leamington-chess-club/2027-04-20/
LOCATION:Meeting Room
ATTACH;FMTTYPE=image/jpeg:https://www.lltsc.co.uk/wp-content/uploads/2021/08/Chess.jpg
END:VEVENT
BEGIN:VEVENT
DTSTART;TZID=UTC:20270422T123000
DTEND;TZID=UTC:20270422T163000
DTSTAMP:20260421T224340
CREATED:20230331T110310Z
LAST-MODIFIED:20230331T110430Z
UID:10002461-1808397000-1808411400@www.lltsc.co.uk
SUMMARY:Physiotherapist
DESCRIPTION:Sharon Swift will be offering Physiotherapy sessions for members at a discounted rate. Contact Sharon on 07900 262765
URL:https://www.lltsc.co.uk/event/physiotherapist/2027-04-22/
LOCATION:Meeting Room
END:VEVENT
BEGIN:VEVENT
DTSTART;TZID=UTC:20270424T133000
DTEND;TZID=UTC:20270424T170000
DTSTAMP:20260421T224340
CREATED:20251120T095524Z
LAST-MODIFIED:20251120T095524Z
UID:10004067-1808573400-1808586000@www.lltsc.co.uk
SUMMARY:Member Meeting
DESCRIPTION:David Frost – Italian Group
URL:https://www.lltsc.co.uk/event/member-meeting-26-2/2027-04-24/
LOCATION:Meeting Room
END:VEVENT
BEGIN:VEVENT
DTSTART;TZID=UTC:20270427T190000
DTEND;TZID=UTC:20270427T230000
DTSTAMP:20260421T224340
CREATED:20210805T103514Z
LAST-MODIFIED:20210805T103514Z
UID:10001788-1808852400-1808866800@www.lltsc.co.uk
SUMMARY:Leamington Chess Club
DESCRIPTION:
URL:https://www.lltsc.co.uk/event/leamington-chess-club/2027-04-27/
LOCATION:Meeting Room
ATTACH;FMTTYPE=image/jpeg:https://www.lltsc.co.uk/wp-content/uploads/2021/08/Chess.jpg
END:VEVENT
BEGIN:VEVENT
DTSTART;TZID=UTC:20270429T123000
DTEND;TZID=UTC:20270429T163000
DTSTAMP:20260421T224340
CREATED:20230331T110310Z
LAST-MODIFIED:20230331T110430Z
UID:10002462-1809001800-1809016200@www.lltsc.co.uk
SUMMARY:Physiotherapist
DESCRIPTION:Sharon Swift will be offering Physiotherapy sessions for members at a discounted rate. Contact Sharon on 07900 262765
URL:https://www.lltsc.co.uk/event/physiotherapist/2027-04-29/
LOCATION:Meeting Room
END:VEVENT
BEGIN:VEVENT
DTSTART;TZID=UTC:20270504T190000
DTEND;TZID=UTC:20270504T230000
DTSTAMP:20260421T224340
CREATED:20210805T103514Z
LAST-MODIFIED:20210805T103514Z
UID:10001789-1809457200-1809471600@www.lltsc.co.uk
SUMMARY:Leamington Chess Club
DESCRIPTION:
URL:https://www.lltsc.co.uk/event/leamington-chess-club/2027-05-04/
LOCATION:Meeting Room
ATTACH;FMTTYPE=image/jpeg:https://www.lltsc.co.uk/wp-content/uploads/2021/08/Chess.jpg
END:VEVENT
BEGIN:VEVENT
DTSTART;TZID=UTC:20270506T123000
DTEND;TZID=UTC:20270506T163000
DTSTAMP:20260421T224340
CREATED:20230331T110310Z
LAST-MODIFIED:20230331T110430Z
UID:10002463-1809606600-1809621000@www.lltsc.co.uk
SUMMARY:Physiotherapist
DESCRIPTION:Sharon Swift will be offering Physiotherapy sessions for members at a discounted rate. Contact Sharon on 07900 262765
URL:https://www.lltsc.co.uk/event/physiotherapist/2027-05-06/
LOCATION:Meeting Room
END:VEVENT
BEGIN:VEVENT
DTSTART;TZID=UTC:20270511T190000
DTEND;TZID=UTC:20270511T230000
DTSTAMP:20260421T224340
CREATED:20210805T103514Z
LAST-MODIFIED:20210805T103514Z
UID:10001790-1810062000-1810076400@www.lltsc.co.uk
SUMMARY:Leamington Chess Club
DESCRIPTION:
URL:https://www.lltsc.co.uk/event/leamington-chess-club/2027-05-11/
LOCATION:Meeting Room
ATTACH;FMTTYPE=image/jpeg:https://www.lltsc.co.uk/wp-content/uploads/2021/08/Chess.jpg
END:VEVENT
BEGIN:VEVENT
DTSTART;TZID=UTC:20270513T123000
DTEND;TZID=UTC:20270513T163000
DTSTAMP:20260421T224340
CREATED:20230331T110310Z
LAST-MODIFIED:20230331T110430Z
UID:10002464-1810211400-1810225800@www.lltsc.co.uk
SUMMARY:Physiotherapist
DESCRIPTION:Sharon Swift will be offering Physiotherapy sessions for members at a discounted rate. Contact Sharon on 07900 262765
URL:https://www.lltsc.co.uk/event/physiotherapist/2027-05-13/
LOCATION:Meeting Room
END:VEVENT
BEGIN:VEVENT
DTSTART;TZID=UTC:20270518T190000
DTEND;TZID=UTC:20270518T230000
DTSTAMP:20260421T224340
CREATED:20210805T103514Z
LAST-MODIFIED:20210805T103514Z
UID:10001791-1810666800-1810681200@www.lltsc.co.uk
SUMMARY:Leamington Chess Club
DESCRIPTION:
URL:https://www.lltsc.co.uk/event/leamington-chess-club/2027-05-18/
LOCATION:Meeting Room
ATTACH;FMTTYPE=image/jpeg:https://www.lltsc.co.uk/wp-content/uploads/2021/08/Chess.jpg
END:VEVENT
BEGIN:VEVENT
DTSTART;TZID=UTC:20270520T123000
DTEND;TZID=UTC:20270520T163000
DTSTAMP:20260421T224340
CREATED:20230331T110310Z
LAST-MODIFIED:20230331T110430Z
UID:10002465-1810816200-1810830600@www.lltsc.co.uk
SUMMARY:Physiotherapist
DESCRIPTION:Sharon Swift will be offering Physiotherapy sessions for members at a discounted rate. Contact Sharon on 07900 262765
URL:https://www.lltsc.co.uk/event/physiotherapist/2027-05-20/
LOCATION:Meeting Room
END:VEVENT
BEGIN:VEVENT
DTSTART;TZID=UTC:20270525T190000
DTEND;TZID=UTC:20270525T230000
DTSTAMP:20260421T224340
CREATED:20210805T103514Z
LAST-MODIFIED:20210805T103514Z
UID:10001792-1811271600-1811286000@www.lltsc.co.uk
SUMMARY:Leamington Chess Club
DESCRIPTION:
URL:https://www.lltsc.co.uk/event/leamington-chess-club/2027-05-25/
LOCATION:Meeting Room
ATTACH;FMTTYPE=image/jpeg:https://www.lltsc.co.uk/wp-content/uploads/2021/08/Chess.jpg
END:VEVENT
BEGIN:VEVENT
DTSTART;TZID=UTC:20270527T123000
DTEND;TZID=UTC:20270527T163000
DTSTAMP:20260421T224340
CREATED:20230331T110310Z
LAST-MODIFIED:20230331T110430Z
UID:10002466-1811421000-1811435400@www.lltsc.co.uk
SUMMARY:Physiotherapist
DESCRIPTION:Sharon Swift will be offering Physiotherapy sessions for members at a discounted rate. Contact Sharon on 07900 262765
URL:https://www.lltsc.co.uk/event/physiotherapist/2027-05-27/
LOCATION:Meeting Room
END:VEVENT
BEGIN:VEVENT
DTSTART;TZID=UTC:20270529T133000
DTEND;TZID=UTC:20270529T170000
DTSTAMP:20260421T224340
CREATED:20251120T095524Z
LAST-MODIFIED:20251120T095524Z
UID:10004068-1811597400-1811610000@www.lltsc.co.uk
SUMMARY:Member Meeting
DESCRIPTION:David Frost – Italian Group
URL:https://www.lltsc.co.uk/event/member-meeting-26-2/2027-05-29/
LOCATION:Meeting Room
END:VEVENT
BEGIN:VEVENT
DTSTART;TZID=UTC:20270601T190000
DTEND;TZID=UTC:20270601T230000
DTSTAMP:20260421T224340
CREATED:20210805T103514Z
LAST-MODIFIED:20210805T103514Z
UID:10001793-1811876400-1811890800@www.lltsc.co.uk
SUMMARY:Leamington Chess Club
DESCRIPTION:
URL:https://www.lltsc.co.uk/event/leamington-chess-club/2027-06-01/
LOCATION:Meeting Room
ATTACH;FMTTYPE=image/jpeg:https://www.lltsc.co.uk/wp-content/uploads/2021/08/Chess.jpg
END:VEVENT
BEGIN:VEVENT
DTSTART;TZID=UTC:20270603T123000
DTEND;TZID=UTC:20270603T163000
DTSTAMP:20260421T224340
CREATED:20230331T110310Z
LAST-MODIFIED:20230331T110430Z
UID:10002467-1812025800-1812040200@www.lltsc.co.uk
SUMMARY:Physiotherapist
DESCRIPTION:Sharon Swift will be offering Physiotherapy sessions for members at a discounted rate. Contact Sharon on 07900 262765
URL:https://www.lltsc.co.uk/event/physiotherapist/2027-06-03/
LOCATION:Meeting Room
END:VEVENT
BEGIN:VEVENT
DTSTART;TZID=UTC:20270608T190000
DTEND;TZID=UTC:20270608T230000
DTSTAMP:20260421T224340
CREATED:20210805T103514Z
LAST-MODIFIED:20210805T103514Z
UID:10001794-1812481200-1812495600@www.lltsc.co.uk
SUMMARY:Leamington Chess Club
DESCRIPTION:
URL:https://www.lltsc.co.uk/event/leamington-chess-club/2027-06-08/
LOCATION:Meeting Room
ATTACH;FMTTYPE=image/jpeg:https://www.lltsc.co.uk/wp-content/uploads/2021/08/Chess.jpg
END:VEVENT
BEGIN:VEVENT
DTSTART;TZID=UTC:20270610T123000
DTEND;TZID=UTC:20270610T163000
DTSTAMP:20260421T224340
CREATED:20230331T110310Z
LAST-MODIFIED:20230331T110430Z
UID:10002468-1812630600-1812645000@www.lltsc.co.uk
SUMMARY:Physiotherapist
DESCRIPTION:Sharon Swift will be offering Physiotherapy sessions for members at a discounted rate. Contact Sharon on 07900 262765
URL:https://www.lltsc.co.uk/event/physiotherapist/2027-06-10/
LOCATION:Meeting Room
END:VEVENT
BEGIN:VEVENT
DTSTART;TZID=UTC:20270615T190000
DTEND;TZID=UTC:20270615T230000
DTSTAMP:20260421T224340
CREATED:20210805T103514Z
LAST-MODIFIED:20210805T103514Z
UID:10001795-1813086000-1813100400@www.lltsc.co.uk
SUMMARY:Leamington Chess Club
DESCRIPTION:
URL:https://www.lltsc.co.uk/event/leamington-chess-club/2027-06-15/
LOCATION:Meeting Room
ATTACH;FMTTYPE=image/jpeg:https://www.lltsc.co.uk/wp-content/uploads/2021/08/Chess.jpg
END:VEVENT
BEGIN:VEVENT
DTSTART;TZID=UTC:20270617T123000
DTEND;TZID=UTC:20270617T163000
DTSTAMP:20260421T224340
CREATED:20230331T110310Z
LAST-MODIFIED:20230331T110430Z
UID:10002469-1813235400-1813249800@www.lltsc.co.uk
SUMMARY:Physiotherapist
DESCRIPTION:Sharon Swift will be offering Physiotherapy sessions for members at a discounted rate. Contact Sharon on 07900 262765
URL:https://www.lltsc.co.uk/event/physiotherapist/2027-06-17/
LOCATION:Meeting Room
END:VEVENT
BEGIN:VEVENT
DTSTART;TZID=UTC:20270622T190000
DTEND;TZID=UTC:20270622T230000
DTSTAMP:20260421T224340
CREATED:20210805T103514Z
LAST-MODIFIED:20210805T103514Z
UID:10001796-1813690800-1813705200@www.lltsc.co.uk
SUMMARY:Leamington Chess Club
DESCRIPTION:
URL:https://www.lltsc.co.uk/event/leamington-chess-club/2027-06-22/
LOCATION:Meeting Room
ATTACH;FMTTYPE=image/jpeg:https://www.lltsc.co.uk/wp-content/uploads/2021/08/Chess.jpg
END:VEVENT
BEGIN:VEVENT
DTSTART;TZID=UTC:20270624T123000
DTEND;TZID=UTC:20270624T163000
DTSTAMP:20260421T224340
CREATED:20230331T110310Z
LAST-MODIFIED:20230331T110430Z
UID:10002470-1813840200-1813854600@www.lltsc.co.uk
SUMMARY:Physiotherapist
DESCRIPTION:Sharon Swift will be offering Physiotherapy sessions for members at a discounted rate. Contact Sharon on 07900 262765
URL:https://www.lltsc.co.uk/event/physiotherapist/2027-06-24/
LOCATION:Meeting Room
END:VEVENT
END:VCALENDAR