BEGIN:VCALENDAR
VERSION:2.0
PRODID:-//LLTSC - ECPv6.15.15//NONSGML v1.0//EN
CALSCALE:GREGORIAN
METHOD:PUBLISH
X-WR-CALNAME:LLTSC
X-ORIGINAL-URL:https://www.lltsc.co.uk
X-WR-CALDESC:Events for LLTSC
REFRESH-INTERVAL;VALUE=DURATION:PT1H
X-Robots-Tag:noindex
X-PUBLISHED-TTL:PT1H
BEGIN:VTIMEZONE
TZID:UTC
BEGIN:STANDARD
TZOFFSETFROM:+0000
TZOFFSETTO:+0000
TZNAME:UTC
DTSTART:20240101T000000
END:STANDARD
END:VTIMEZONE
BEGIN:VEVENT
DTSTART;TZID=UTC:20250812T193000
DTEND;TZID=UTC:20250812T213000
DTSTAMP:20260423T150126
CREATED:20250811T103612Z
LAST-MODIFIED:20250811T103612Z
UID:10003402-1755027000-1755034200@www.lltsc.co.uk
SUMMARY:Clubroom - Bridge
DESCRIPTION:
URL:https://www.lltsc.co.uk/event/clubroom-bridge/2025-08-12/
END:VEVENT
END:VCALENDAR