BEGIN:VCALENDAR
VERSION:2.0
PRODID:-//LLTSC - ECPv6.15.15//NONSGML v1.0//EN
CALSCALE:GREGORIAN
METHOD:PUBLISH
X-ORIGINAL-URL:https://www.lltsc.co.uk
X-WR-CALDESC:Events for LLTSC
REFRESH-INTERVAL;VALUE=DURATION:PT1H
X-Robots-Tag:noindex
X-PUBLISHED-TTL:PT1H
BEGIN:VTIMEZONE
TZID:UTC
BEGIN:STANDARD
TZOFFSETFROM:+0000
TZOFFSETTO:+0000
TZNAME:UTC
DTSTART:20240101T000000
END:STANDARD
END:VTIMEZONE
BEGIN:VEVENT
DTSTART;TZID=UTC:20251104T193000
DTEND;TZID=UTC:20251104T213000
DTSTAMP:20260423T131256
CREATED:20250811T103612Z
LAST-MODIFIED:20250811T103612Z
UID:10003414-1762284600-1762291800@www.lltsc.co.uk
SUMMARY:Clubroom - Bridge
DESCRIPTION:
URL:https://www.lltsc.co.uk/event/clubroom-bridge/2025-11-04/
END:VEVENT
BEGIN:VEVENT
DTSTART;TZID=UTC:20251028T193000
DTEND;TZID=UTC:20251028T213000
DTSTAMP:20260423T131256
CREATED:20250811T103612Z
LAST-MODIFIED:20250811T103612Z
UID:10003413-1761679800-1761687000@www.lltsc.co.uk
SUMMARY:Clubroom - Bridge
DESCRIPTION:
URL:https://www.lltsc.co.uk/event/clubroom-bridge/2025-10-28/
END:VEVENT
BEGIN:VEVENT
DTSTART;TZID=UTC:20251021T193000
DTEND;TZID=UTC:20251021T213000
DTSTAMP:20260423T131256
CREATED:20250811T103612Z
LAST-MODIFIED:20250811T103612Z
UID:10003412-1761075000-1761082200@www.lltsc.co.uk
SUMMARY:Clubroom - Bridge
DESCRIPTION:
URL:https://www.lltsc.co.uk/event/clubroom-bridge/2025-10-21/
END:VEVENT
BEGIN:VEVENT
DTSTART;TZID=UTC:20251014T193000
DTEND;TZID=UTC:20251014T213000
DTSTAMP:20260423T131256
CREATED:20250811T103612Z
LAST-MODIFIED:20250811T103612Z
UID:10003411-1760470200-1760477400@www.lltsc.co.uk
SUMMARY:Clubroom - Bridge
DESCRIPTION:
URL:https://www.lltsc.co.uk/event/clubroom-bridge/2025-10-14/
END:VEVENT
BEGIN:VEVENT
DTSTART;TZID=UTC:20251007T193000
DTEND;TZID=UTC:20251007T213000
DTSTAMP:20260423T131256
CREATED:20250811T103612Z
LAST-MODIFIED:20250811T103612Z
UID:10003410-1759865400-1759872600@www.lltsc.co.uk
SUMMARY:Clubroom - Bridge
DESCRIPTION:
URL:https://www.lltsc.co.uk/event/clubroom-bridge/2025-10-07/
END:VEVENT
BEGIN:VEVENT
DTSTART;TZID=UTC:20250930T193000
DTEND;TZID=UTC:20250930T213000
DTSTAMP:20260423T131256
CREATED:20250811T103612Z
LAST-MODIFIED:20250811T103612Z
UID:10003409-1759260600-1759267800@www.lltsc.co.uk
SUMMARY:Clubroom - Bridge
DESCRIPTION:
URL:https://www.lltsc.co.uk/event/clubroom-bridge/2025-09-30/
END:VEVENT
BEGIN:VEVENT
DTSTART;TZID=UTC:20250923T193000
DTEND;TZID=UTC:20250923T213000
DTSTAMP:20260423T131256
CREATED:20250811T103612Z
LAST-MODIFIED:20250811T103612Z
UID:10003408-1758655800-1758663000@www.lltsc.co.uk
SUMMARY:Clubroom - Bridge
DESCRIPTION:
URL:https://www.lltsc.co.uk/event/clubroom-bridge/2025-09-23/
END:VEVENT
BEGIN:VEVENT
DTSTART;TZID=UTC:20250916T193000
DTEND;TZID=UTC:20250916T213000
DTSTAMP:20260423T131256
CREATED:20250811T103612Z
LAST-MODIFIED:20250811T103612Z
UID:10003407-1758051000-1758058200@www.lltsc.co.uk
SUMMARY:Clubroom - Bridge
DESCRIPTION:
URL:https://www.lltsc.co.uk/event/clubroom-bridge/2025-09-16/
END:VEVENT
BEGIN:VEVENT
DTSTART;TZID=UTC:20250909T193000
DTEND;TZID=UTC:20250909T213000
DTSTAMP:20260423T131256
CREATED:20250811T103612Z
LAST-MODIFIED:20250811T103612Z
UID:10003406-1757446200-1757453400@www.lltsc.co.uk
SUMMARY:Clubroom - Bridge
DESCRIPTION:
URL:https://www.lltsc.co.uk/event/clubroom-bridge/2025-09-09/
END:VEVENT
BEGIN:VEVENT
DTSTART;TZID=UTC:20250902T193000
DTEND;TZID=UTC:20250902T213000
DTSTAMP:20260423T131256
CREATED:20250811T103612Z
LAST-MODIFIED:20250811T103612Z
UID:10003405-1756841400-1756848600@www.lltsc.co.uk
SUMMARY:Clubroom - Bridge
DESCRIPTION:
URL:https://www.lltsc.co.uk/event/clubroom-bridge/2025-09-02/
END:VEVENT
BEGIN:VEVENT
DTSTART;TZID=UTC:20250826T193000
DTEND;TZID=UTC:20250826T213000
DTSTAMP:20260423T131256
CREATED:20250811T103612Z
LAST-MODIFIED:20250811T103612Z
UID:10003404-1756236600-1756243800@www.lltsc.co.uk
SUMMARY:Clubroom - Bridge
DESCRIPTION:
URL:https://www.lltsc.co.uk/event/clubroom-bridge/2025-08-26/
END:VEVENT
BEGIN:VEVENT
DTSTART;TZID=UTC:20250819T193000
DTEND;TZID=UTC:20250819T213000
DTSTAMP:20260423T131256
CREATED:20250811T103612Z
LAST-MODIFIED:20250811T103612Z
UID:10003403-1755631800-1755639000@www.lltsc.co.uk
SUMMARY:Clubroom - Bridge
DESCRIPTION:
URL:https://www.lltsc.co.uk/event/clubroom-bridge/2025-08-19/
END:VEVENT
BEGIN:VEVENT
DTSTART;TZID=UTC:20250812T193000
DTEND;TZID=UTC:20250812T213000
DTSTAMP:20260423T131256
CREATED:20250811T103612Z
LAST-MODIFIED:20250811T103612Z
UID:10003402-1755027000-1755034200@www.lltsc.co.uk
SUMMARY:Clubroom - Bridge
DESCRIPTION:
URL:https://www.lltsc.co.uk/event/clubroom-bridge/2025-08-12/
END:VEVENT
END:VCALENDAR