BEGIN:VCALENDAR
VERSION:2.0
PRODID:-//LLTSC - ECPv6.15.15//NONSGML v1.0//EN
CALSCALE:GREGORIAN
METHOD:PUBLISH
X-WR-CALNAME:LLTSC
X-ORIGINAL-URL:https://www.lltsc.co.uk
X-WR-CALDESC:Events for LLTSC
REFRESH-INTERVAL;VALUE=DURATION:PT1H
X-Robots-Tag:noindex
X-PUBLISHED-TTL:PT1H
BEGIN:VTIMEZONE
TZID:UTC
BEGIN:STANDARD
TZOFFSETFROM:+0000
TZOFFSETTO:+0000
TZNAME:UTC
DTSTART:20240101T000000
END:STANDARD
END:VTIMEZONE
BEGIN:VEVENT
DTSTART;TZID=UTC:20260421T193000
DTEND;TZID=UTC:20260421T213000
DTSTAMP:20260422T002821
CREATED:20250811T103612Z
LAST-MODIFIED:20250811T103612Z
UID:10003438-1776799800-1776807000@www.lltsc.co.uk
SUMMARY:Clubroom - Bridge
DESCRIPTION:
URL:https://www.lltsc.co.uk/event/clubroom-bridge/2026-04-21/
END:VEVENT
BEGIN:VEVENT
DTSTART;TZID=UTC:20260414T193000
DTEND;TZID=UTC:20260414T213000
DTSTAMP:20260422T002821
CREATED:20250811T103612Z
LAST-MODIFIED:20250811T103612Z
UID:10003437-1776195000-1776202200@www.lltsc.co.uk
SUMMARY:Clubroom - Bridge
DESCRIPTION:
URL:https://www.lltsc.co.uk/event/clubroom-bridge/2026-04-14/
END:VEVENT
BEGIN:VEVENT
DTSTART;TZID=UTC:20260407T193000
DTEND;TZID=UTC:20260407T213000
DTSTAMP:20260422T002821
CREATED:20250811T103612Z
LAST-MODIFIED:20250811T103612Z
UID:10003436-1775590200-1775597400@www.lltsc.co.uk
SUMMARY:Clubroom - Bridge
DESCRIPTION:
URL:https://www.lltsc.co.uk/event/clubroom-bridge/2026-04-07/
END:VEVENT
BEGIN:VEVENT
DTSTART;TZID=UTC:20260331T193000
DTEND;TZID=UTC:20260331T213000
DTSTAMP:20260422T002821
CREATED:20250811T103612Z
LAST-MODIFIED:20250811T103612Z
UID:10003435-1774985400-1774992600@www.lltsc.co.uk
SUMMARY:Clubroom - Bridge
DESCRIPTION:
URL:https://www.lltsc.co.uk/event/clubroom-bridge/2026-03-31/
END:VEVENT
BEGIN:VEVENT
DTSTART;TZID=UTC:20260324T193000
DTEND;TZID=UTC:20260324T213000
DTSTAMP:20260422T002821
CREATED:20250811T103612Z
LAST-MODIFIED:20250811T103612Z
UID:10003434-1774380600-1774387800@www.lltsc.co.uk
SUMMARY:Clubroom - Bridge
DESCRIPTION:
URL:https://www.lltsc.co.uk/event/clubroom-bridge/2026-03-24/
END:VEVENT
BEGIN:VEVENT
DTSTART;TZID=UTC:20260317T193000
DTEND;TZID=UTC:20260317T213000
DTSTAMP:20260422T002821
CREATED:20250811T103612Z
LAST-MODIFIED:20250811T103612Z
UID:10003433-1773775800-1773783000@www.lltsc.co.uk
SUMMARY:Clubroom - Bridge
DESCRIPTION:
URL:https://www.lltsc.co.uk/event/clubroom-bridge/2026-03-17/
END:VEVENT
BEGIN:VEVENT
DTSTART;TZID=UTC:20260310T193000
DTEND;TZID=UTC:20260310T213000
DTSTAMP:20260422T002821
CREATED:20250811T103612Z
LAST-MODIFIED:20250811T103612Z
UID:10003432-1773171000-1773178200@www.lltsc.co.uk
SUMMARY:Clubroom - Bridge
DESCRIPTION:
URL:https://www.lltsc.co.uk/event/clubroom-bridge/2026-03-10/
END:VEVENT
BEGIN:VEVENT
DTSTART;TZID=UTC:20260303T193000
DTEND;TZID=UTC:20260303T213000
DTSTAMP:20260422T002821
CREATED:20250811T103612Z
LAST-MODIFIED:20250811T103612Z
UID:10003431-1772566200-1772573400@www.lltsc.co.uk
SUMMARY:Clubroom - Bridge
DESCRIPTION:
URL:https://www.lltsc.co.uk/event/clubroom-bridge/2026-03-03/
END:VEVENT
BEGIN:VEVENT
DTSTART;TZID=UTC:20260224T193000
DTEND;TZID=UTC:20260224T213000
DTSTAMP:20260422T002821
CREATED:20250811T103612Z
LAST-MODIFIED:20250811T103612Z
UID:10003430-1771961400-1771968600@www.lltsc.co.uk
SUMMARY:Clubroom - Bridge
DESCRIPTION:
URL:https://www.lltsc.co.uk/event/clubroom-bridge/2026-02-24/
END:VEVENT
BEGIN:VEVENT
DTSTART;TZID=UTC:20260217T193000
DTEND;TZID=UTC:20260217T213000
DTSTAMP:20260422T002821
CREATED:20250811T103612Z
LAST-MODIFIED:20250811T103612Z
UID:10003429-1771356600-1771363800@www.lltsc.co.uk
SUMMARY:Clubroom - Bridge
DESCRIPTION:
URL:https://www.lltsc.co.uk/event/clubroom-bridge/2026-02-17/
END:VEVENT
BEGIN:VEVENT
DTSTART;TZID=UTC:20260210T193000
DTEND;TZID=UTC:20260210T213000
DTSTAMP:20260422T002821
CREATED:20250811T103612Z
LAST-MODIFIED:20250811T103612Z
UID:10003428-1770751800-1770759000@www.lltsc.co.uk
SUMMARY:Clubroom - Bridge
DESCRIPTION:
URL:https://www.lltsc.co.uk/event/clubroom-bridge/2026-02-10/
END:VEVENT
BEGIN:VEVENT
DTSTART;TZID=UTC:20260203T193000
DTEND;TZID=UTC:20260203T213000
DTSTAMP:20260422T002821
CREATED:20250811T103612Z
LAST-MODIFIED:20250811T103612Z
UID:10003427-1770147000-1770154200@www.lltsc.co.uk
SUMMARY:Clubroom - Bridge
DESCRIPTION:
URL:https://www.lltsc.co.uk/event/clubroom-bridge/2026-02-03/
END:VEVENT
BEGIN:VEVENT
DTSTART;TZID=UTC:20260127T193000
DTEND;TZID=UTC:20260127T213000
DTSTAMP:20260422T002821
CREATED:20250811T103612Z
LAST-MODIFIED:20250811T103612Z
UID:10003426-1769542200-1769549400@www.lltsc.co.uk
SUMMARY:Clubroom - Bridge
DESCRIPTION:
URL:https://www.lltsc.co.uk/event/clubroom-bridge/2026-01-27/
END:VEVENT
BEGIN:VEVENT
DTSTART;TZID=UTC:20260120T193000
DTEND;TZID=UTC:20260120T213000
DTSTAMP:20260422T002821
CREATED:20250811T103612Z
LAST-MODIFIED:20250811T103612Z
UID:10003425-1768937400-1768944600@www.lltsc.co.uk
SUMMARY:Clubroom - Bridge
DESCRIPTION:
URL:https://www.lltsc.co.uk/event/clubroom-bridge/2026-01-20/
END:VEVENT
BEGIN:VEVENT
DTSTART;TZID=UTC:20260113T193000
DTEND;TZID=UTC:20260113T213000
DTSTAMP:20260422T002821
CREATED:20250811T103612Z
LAST-MODIFIED:20250811T103612Z
UID:10003424-1768332600-1768339800@www.lltsc.co.uk
SUMMARY:Clubroom - Bridge
DESCRIPTION:
URL:https://www.lltsc.co.uk/event/clubroom-bridge/2026-01-13/
END:VEVENT
BEGIN:VEVENT
DTSTART;TZID=UTC:20260106T193000
DTEND;TZID=UTC:20260106T213000
DTSTAMP:20260422T002821
CREATED:20250811T103612Z
LAST-MODIFIED:20250811T103612Z
UID:10003423-1767727800-1767735000@www.lltsc.co.uk
SUMMARY:Clubroom - Bridge
DESCRIPTION:
URL:https://www.lltsc.co.uk/event/clubroom-bridge/2026-01-06/
END:VEVENT
BEGIN:VEVENT
DTSTART;TZID=UTC:20251230T193000
DTEND;TZID=UTC:20251230T213000
DTSTAMP:20260422T002821
CREATED:20250811T103612Z
LAST-MODIFIED:20250811T103612Z
UID:10003422-1767123000-1767130200@www.lltsc.co.uk
SUMMARY:Clubroom - Bridge
DESCRIPTION:
URL:https://www.lltsc.co.uk/event/clubroom-bridge/2025-12-30/
END:VEVENT
BEGIN:VEVENT
DTSTART;TZID=UTC:20251223T193000
DTEND;TZID=UTC:20251223T213000
DTSTAMP:20260422T002821
CREATED:20250811T103612Z
LAST-MODIFIED:20250811T103612Z
UID:10003421-1766518200-1766525400@www.lltsc.co.uk
SUMMARY:Clubroom - Bridge
DESCRIPTION:
URL:https://www.lltsc.co.uk/event/clubroom-bridge/2025-12-23/
END:VEVENT
BEGIN:VEVENT
DTSTART;TZID=UTC:20251216T193000
DTEND;TZID=UTC:20251216T213000
DTSTAMP:20260422T002821
CREATED:20250811T103612Z
LAST-MODIFIED:20250811T103612Z
UID:10003420-1765913400-1765920600@www.lltsc.co.uk
SUMMARY:Clubroom - Bridge
DESCRIPTION:
URL:https://www.lltsc.co.uk/event/clubroom-bridge/2025-12-16/
END:VEVENT
BEGIN:VEVENT
DTSTART;TZID=UTC:20251209T193000
DTEND;TZID=UTC:20251209T213000
DTSTAMP:20260422T002821
CREATED:20250811T103612Z
LAST-MODIFIED:20250811T103612Z
UID:10003419-1765308600-1765315800@www.lltsc.co.uk
SUMMARY:Clubroom - Bridge
DESCRIPTION:
URL:https://www.lltsc.co.uk/event/clubroom-bridge/2025-12-09/
END:VEVENT
BEGIN:VEVENT
DTSTART;TZID=UTC:20251202T193000
DTEND;TZID=UTC:20251202T213000
DTSTAMP:20260422T002821
CREATED:20250811T103612Z
LAST-MODIFIED:20250811T103612Z
UID:10003418-1764703800-1764711000@www.lltsc.co.uk
SUMMARY:Clubroom - Bridge
DESCRIPTION:
URL:https://www.lltsc.co.uk/event/clubroom-bridge/2025-12-02/
END:VEVENT
BEGIN:VEVENT
DTSTART;TZID=UTC:20251125T193000
DTEND;TZID=UTC:20251125T213000
DTSTAMP:20260422T002821
CREATED:20250811T103612Z
LAST-MODIFIED:20250811T103612Z
UID:10003417-1764099000-1764106200@www.lltsc.co.uk
SUMMARY:Clubroom - Bridge
DESCRIPTION:
URL:https://www.lltsc.co.uk/event/clubroom-bridge/2025-11-25/
END:VEVENT
BEGIN:VEVENT
DTSTART;TZID=UTC:20251118T193000
DTEND;TZID=UTC:20251118T213000
DTSTAMP:20260422T002821
CREATED:20250811T103612Z
LAST-MODIFIED:20250811T103612Z
UID:10003416-1763494200-1763501400@www.lltsc.co.uk
SUMMARY:Clubroom - Bridge
DESCRIPTION:
URL:https://www.lltsc.co.uk/event/clubroom-bridge/2025-11-18/
END:VEVENT
BEGIN:VEVENT
DTSTART;TZID=UTC:20251111T193000
DTEND;TZID=UTC:20251111T213000
DTSTAMP:20260422T002821
CREATED:20250811T103612Z
LAST-MODIFIED:20250811T103612Z
UID:10003415-1762889400-1762896600@www.lltsc.co.uk
SUMMARY:Clubroom - Bridge
DESCRIPTION:
URL:https://www.lltsc.co.uk/event/clubroom-bridge/2025-11-11/
END:VEVENT
BEGIN:VEVENT
DTSTART;TZID=UTC:20251104T193000
DTEND;TZID=UTC:20251104T213000
DTSTAMP:20260422T002821
CREATED:20250811T103612Z
LAST-MODIFIED:20250811T103612Z
UID:10003414-1762284600-1762291800@www.lltsc.co.uk
SUMMARY:Clubroom - Bridge
DESCRIPTION:
URL:https://www.lltsc.co.uk/event/clubroom-bridge/2025-11-04/
END:VEVENT
BEGIN:VEVENT
DTSTART;TZID=UTC:20251028T193000
DTEND;TZID=UTC:20251028T213000
DTSTAMP:20260422T002821
CREATED:20250811T103612Z
LAST-MODIFIED:20250811T103612Z
UID:10003413-1761679800-1761687000@www.lltsc.co.uk
SUMMARY:Clubroom - Bridge
DESCRIPTION:
URL:https://www.lltsc.co.uk/event/clubroom-bridge/2025-10-28/
END:VEVENT
BEGIN:VEVENT
DTSTART;TZID=UTC:20251021T193000
DTEND;TZID=UTC:20251021T213000
DTSTAMP:20260422T002821
CREATED:20250811T103612Z
LAST-MODIFIED:20250811T103612Z
UID:10003412-1761075000-1761082200@www.lltsc.co.uk
SUMMARY:Clubroom - Bridge
DESCRIPTION:
URL:https://www.lltsc.co.uk/event/clubroom-bridge/2025-10-21/
END:VEVENT
BEGIN:VEVENT
DTSTART;TZID=UTC:20251014T193000
DTEND;TZID=UTC:20251014T213000
DTSTAMP:20260422T002822
CREATED:20250811T103612Z
LAST-MODIFIED:20250811T103612Z
UID:10003411-1760470200-1760477400@www.lltsc.co.uk
SUMMARY:Clubroom - Bridge
DESCRIPTION:
URL:https://www.lltsc.co.uk/event/clubroom-bridge/2025-10-14/
END:VEVENT
BEGIN:VEVENT
DTSTART;TZID=UTC:20251007T193000
DTEND;TZID=UTC:20251007T213000
DTSTAMP:20260422T002822
CREATED:20250811T103612Z
LAST-MODIFIED:20250811T103612Z
UID:10003410-1759865400-1759872600@www.lltsc.co.uk
SUMMARY:Clubroom - Bridge
DESCRIPTION:
URL:https://www.lltsc.co.uk/event/clubroom-bridge/2025-10-07/
END:VEVENT
BEGIN:VEVENT
DTSTART;TZID=UTC:20250930T193000
DTEND;TZID=UTC:20250930T213000
DTSTAMP:20260422T002822
CREATED:20250811T103612Z
LAST-MODIFIED:20250811T103612Z
UID:10003409-1759260600-1759267800@www.lltsc.co.uk
SUMMARY:Clubroom - Bridge
DESCRIPTION:
URL:https://www.lltsc.co.uk/event/clubroom-bridge/2025-09-30/
END:VEVENT
END:VCALENDAR