BEGIN:VCALENDAR
VERSION:2.0
PRODID:-//LLTSC - ECPv6.15.15//NONSGML v1.0//EN
CALSCALE:GREGORIAN
METHOD:PUBLISH
X-ORIGINAL-URL:https://www.lltsc.co.uk
X-WR-CALDESC:Events for LLTSC
REFRESH-INTERVAL;VALUE=DURATION:PT1H
X-Robots-Tag:noindex
X-PUBLISHED-TTL:PT1H
BEGIN:VTIMEZONE
TZID:UTC
BEGIN:STANDARD
TZOFFSETFROM:+0000
TZOFFSETTO:+0000
TZNAME:UTC
DTSTART:20210101T000000
END:STANDARD
END:VTIMEZONE
BEGIN:VEVENT
DTSTART;TZID=UTC:20220827T190000
DTEND;TZID=UTC:20220827T235900
DTSTAMP:20260422T021349
CREATED:20220613T135110Z
LAST-MODIFIED:20220720T091243Z
UID:10002053-1661626800-1661644740@www.lltsc.co.uk
SUMMARY:Member party
DESCRIPTION:
URL:https://www.lltsc.co.uk/event/member-party-6/
END:VEVENT
END:VCALENDAR