BEGIN:VCALENDAR
VERSION:2.0
PRODID:-//LLTSC - ECPv6.15.15//NONSGML v1.0//EN
CALSCALE:GREGORIAN
METHOD:PUBLISH
X-WR-CALNAME:LLTSC
X-ORIGINAL-URL:https://www.lltsc.co.uk
X-WR-CALDESC:Events for LLTSC
REFRESH-INTERVAL;VALUE=DURATION:PT1H
X-Robots-Tag:noindex
X-PUBLISHED-TTL:PT1H
BEGIN:VTIMEZONE
TZID:UTC
BEGIN:STANDARD
TZOFFSETFROM:+0000
TZOFFSETTO:+0000
TZNAME:UTC
DTSTART:20250101T000000
END:STANDARD
END:VTIMEZONE
BEGIN:VEVENT
DTSTART;TZID=UTC:20260421T090000
DTEND;TZID=UTC:20260421T171500
DTSTAMP:20260421T102141
CREATED:20240408T123919Z
LAST-MODIFIED:20240408T123919Z
UID:10002793-1776762000-1776791700@www.lltsc.co.uk
SUMMARY:Power massage - Nina Lea
DESCRIPTION:
URL:https://www.lltsc.co.uk/event/power-massage-nina-lea/2026-04-21/
END:VEVENT
BEGIN:VEVENT
DTSTART;TZID=UTC:20260421T190000
DTEND;TZID=UTC:20260421T230000
DTSTAMP:20260421T102141
CREATED:20210805T103514Z
LAST-MODIFIED:20210805T103514Z
UID:10001735-1776798000-1776812400@www.lltsc.co.uk
SUMMARY:Leamington Chess Club
DESCRIPTION:
URL:https://www.lltsc.co.uk/event/leamington-chess-club/2026-04-21/
LOCATION:Meeting Room
ATTACH;FMTTYPE=image/jpeg:https://www.lltsc.co.uk/wp-content/uploads/2021/08/Chess.jpg
END:VEVENT
BEGIN:VEVENT
DTSTART;TZID=UTC:20260421T193000
DTEND;TZID=UTC:20260421T213000
DTSTAMP:20260421T102141
CREATED:20250811T103612Z
LAST-MODIFIED:20250811T103612Z
UID:10003438-1776799800-1776807000@www.lltsc.co.uk
SUMMARY:Clubroom - Bridge
DESCRIPTION:
URL:https://www.lltsc.co.uk/event/clubroom-bridge/2026-04-21/
END:VEVENT
END:VCALENDAR