BEGIN:VCALENDAR
VERSION:2.0
PRODID:-//LLTSC - ECPv6.15.15//NONSGML v1.0//EN
CALSCALE:GREGORIAN
METHOD:PUBLISH
X-WR-CALNAME:LLTSC
X-ORIGINAL-URL:https://www.lltsc.co.uk
X-WR-CALDESC:Events for LLTSC
REFRESH-INTERVAL;VALUE=DURATION:PT1H
X-Robots-Tag:noindex
X-PUBLISHED-TTL:PT1H
BEGIN:VTIMEZONE
TZID:UTC
BEGIN:STANDARD
TZOFFSETFROM:+0000
TZOFFSETTO:+0000
TZNAME:UTC
DTSTART:20250101T000000
END:STANDARD
END:VTIMEZONE
BEGIN:VEVENT
DTSTART;TZID=UTC:20260416T080000
DTEND;TZID=UTC:20260416T123000
DTSTAMP:20260420T092107
CREATED:20260416T083305Z
LAST-MODIFIED:20260416T083305Z
UID:10004371-1776326400-1776342600@www.lltsc.co.uk
SUMMARY:Meeting Room Booking
DESCRIPTION:Guy Mander
URL:https://www.lltsc.co.uk/event/meeting-room-booking-292/
END:VEVENT
BEGIN:VEVENT
DTSTART;TZID=UTC:20260416T123000
DTEND;TZID=UTC:20260416T163000
DTSTAMP:20260420T092107
CREATED:20230331T110310Z
LAST-MODIFIED:20230331T110430Z
UID:10002408-1776342600-1776357000@www.lltsc.co.uk
SUMMARY:Physiotherapist
DESCRIPTION:Sharon Swift will be offering Physiotherapy sessions for members at a discounted rate. Contact Sharon on 07900 262765
URL:https://www.lltsc.co.uk/event/physiotherapist/2026-04-16/
LOCATION:Meeting Room
END:VEVENT
END:VCALENDAR